BEGIN:VCALENDAR
VERSION:2.0
PRODID:-//wp-events-plugin.com//6.4.6.4//EN
BEGIN:VEVENT
UID:472@local-buehne.at
DTSTART;VALUE=DATE:20100925
DTEND;VALUE=DATE:20100926
DTSTAMP:20190924T173230Z
URL:https://www.local-buehne.at/events/zappa-judith/
SUMMARY:ZAPPA & JUDITH
DESCRIPTION:ZAPPA &amp\; JUDITH\n\nBlues meets Folk and Country\n\nDie Blues-Harp\, E-Gitarre und der Gesang\, vom Flüstern bis zur markanten Rockröhre\, von Bluespumpm-Frontmann "Zappa" Johann Cermak\, oft auch liebevoll Wiener Tom Waits genannt\, und die Geige\, Banjo\, Gitarre\, Mandoline sowiedie klare und manchmal auch rauchige Stimme von Judith Pechoc (The Wild Irish Lasses) vereinen sich in einer Reise zu Blues und Folk mit einem Hauch Country.\n\nIm Rahmen der FREISTÄDTER TURMSEQUENZEN\n\nEintritt: 8\,-\nKartenreservierung unter 07942 77733 oder office@local-buehne.at\nKartenvorverkauf: Kino &amp\; Buchhandlung Wurzinger\, Freistadt
ATTACH;FMTTYPE=image/jpeg:https://www.local-buehne.at/wp-content/uploads/2019/09/unnamed-file-304.jpeg
CATEGORIES:Konzert
END:VEVENT
END:VCALENDAR