BEGIN:VCALENDAR
VERSION:2.0
PRODID:-//wp-events-plugin.com//6.4.6.4//EN
BEGIN:VEVENT
UID:1412@local-buehne.at
DTSTART:20240922T160000Z
DTEND:20240922T160000Z
DTSTAMP:20240901T135246Z
URL:https://www.local-buehne.at/events/werkschau-denis-villeneuve-incendies-die-frau-die-singt/
SUMMARY:WERKSCHAU DENIS VILLENEUVE: INCENDIES - DIE FRAU\, DIE SINGT
DESCRIPTION:\nDENIS VILLENEUVE - RÉALISATEUR QUÉBÉCOIS\nSEINE ERSTEN VIER LANGFILME\njeden Sonntag\, 18 Uhr\, 1. bis 22. September\n\nDer franko-kanadische Regisseur Denis Villeneuve gilt als einer der einflussreichsten Filmschaffenden der Gegenwart. Mit Arrival\, Blade Runner 2049 und Dune prägt er das zeitgenössische Science-Fiction-Genre\, davor hat er sich mit seinen ersten Hollywood-Produktionen Prisoners\, Enemy und Sicario als Meister spannungsgeladener Thriller etabliert.\n\nDie Werkschau im Kino Freistadt widmet sich seinen frühen kanadischen Filmen\, die den Grundstein für seinen späteren internationalen Erfolg legten. Intensive Charakterstudien mit dichter Atmosphäre und beeindruckender Bildsprache. Werke\, die seine Handschrift erkennen lassen\, die ihn zu einem der bedeutendsten Regisseure seiner Generation gemacht hat.\n\n&nbsp\;\n\nSonntag\, 22. September\, 18 Uhr\n\nIncendies - Die Frau\, die singt\nCA 2010\, 133 min\, OmU\, R: Denis Villeneuve\, D: Lubna Azabal\, Mélissa Désormeaux-Poulin\, Maxim Gaudette\, Rémy Girard\n\nhttps://youtu.be/XJ69WnwvZhE\n\nIncendies\, Österreichpremiere beim Festival DER NEUE HEIMATFILM 2011 in Freistadt\, gilt als eines von Villeneuves Meisterwerken und ebnete ihm den Weg nach Hollywood. Die Geschwister Jeanne und Simon sollen ihrer Mutter Nawal nach ihrem Tod deren letzten Wunsch erfüllen: Sie müssen zwei Briefe überbringen – einen an ihren unbekannten Vater und einen an einen Bruder\, von dessen Existenz sie nichts wussten. Die Suche führt die Geschwister in den Nahen Osten\, wo sie Stück für Stück die schmerzhafte Vergangenheit ihrer Mutter aufdecken und mit einer tragischen Familiengeschichte konfrontiert werden.\n\nDer Film ist eine packende Mischung aus Familiendrama und politischem Thriller\, der Themen wie Krieg\, Trauma und Vergebung behandelt. Villeneuve inszeniert die Geschichte in kraftvollen Bildern und erschafft eine komplexe Erzählstruktur\, die Vergangenheit und Gegenwart miteinander verwebt.\n\n&nbsp\;\n\nTermine:\n\nSo. 1. Sept.: Un 32 août sur terre - Der 32. August auf Erden (1998)\n\nSo. 8. Sept.: Maelström (2000)\n\nSo. 15. Sept.: Polytechnique (2009)\n\nSo. 22. Sept.: Incendies - Die Frau\, die singt (2010)\n\n&nbsp\;\n\n\n\nTickets: www.kino-freistadt.at\n\n\n\n
ATTACH;FMTTYPE=image/jpeg:https://www.local-buehne.at/wp-content/uploads/2024/08/240922-FILM-Villeneuve-1200.jpg
CATEGORIES:Film
LOCATION:Kino Freistadt\, Salzgasse 25\, Freistadt\, Oberösterreich\, 4240\, Freistadt\, Österreich
GEO:48.512609;14.5035787
X-APPLE-STRUCTURED-LOCATION;VALUE=URI;X-ADDRESS=Salzgasse 25\, Freistadt\, Oberösterreich\, 4240\, Freistadt\, Österreich;X-APPLE-RADIUS=100;X-TITLE=Kino Freistadt:geo:48.512609;14.5035787
END:VEVENT
END:VCALENDAR