BEGIN:VCALENDAR
VERSION:2.0
PRODID:-//wp-events-plugin.com//6.4.6.4//EN
BEGIN:VEVENT
UID:1392@local-buehne.at
DTSTART:20240622T173000Z
DTEND:20240622T173000Z
DTSTAMP:20240606T102106Z
URL:https://www.local-buehne.at/events/united-voices/
SUMMARY:UNITED VOICES
DESCRIPTION:Heroes Champions and Survivors\nKommen Sie mit auf eine Held*innenreise durch Rock und Pop und lassen Sie sich überraschen\, wie facettenreich United Voices klingen.\n100 Stimmen\, 1 Chor\, 1 Band: genießen Sie Lieder großartiger Musiker*innen wie Katy Perry\, David Guetta ft. Sia\, Elton John oder Tina Turner.\n\nDer Chor\n\nDer Chor United Voices ist der Jazz- und Popchor der Musikschule der Stadt Linz.\n\nÜber 100 motivierte Sängerinnen und Sänger kommen jeden Mittwoch zwischen 19:30 und 21:15 Uhr zu den Proben in die Musikschule Linz im Prunerstift zusammen.\n\nJedes Schuljahr wird – seit September 2015 unter der Leitung von Birgit Kubica – mindestens ein Konzertprogramm einstudiert und mit Semesterende in Konzerten in Linz und Umgebung präsentiert.\n\nDas Repertoire ist abwechslungsreich und reicht von Gospel über Jazz\, Soul und Musical bis hin zu Pop. Diese bunte Mischung macht das Singen bei United Voices auch für langjährige Mitglieder jedes Jahr wieder interessant und zieht regelmäßig neue Mitsängerinnen und Mitsänger an. Die Freude am gemeinsamen Singen wird bei diesen Auftritten deutlich hör- und spürbar.\n\nwww.unitedvoices.at\n\n&nbsp\;\n\n\n\n\nKartenpreis: 15€ / erm. 8€\nVorverkauf im Kino Freistadt und bei Sänger*innen des Chors\n\n\n\n\n\n\n\n&nbsp\;\n\nEine Veranstaltung der LMS Linz\nKooperationspartnerin in Freistadt: Local-Bühne Freistadt\n\n\n&nbsp\;\n\n\n\n
ATTACH;FMTTYPE=image/jpeg:https://www.local-buehne.at/wp-content/uploads/2024/06/241207-GK-Hermann-1-1200.jpg
CATEGORIES:Konzert
END:VEVENT
END:VCALENDAR