BEGIN:VCALENDAR
VERSION:2.0
PRODID:-//wp-events-plugin.com//6.4.6.4//EN
BEGIN:VEVENT
UID:1406@local-buehne.at
DTSTART:20240918T180000Z
DTEND:20240918T180000Z
DTSTAMP:20240822T101739Z
URL:https://www.local-buehne.at/events/trog/
SUMMARY:TROG
DESCRIPTION:zu Gast: Regisseurin Ella Hochleitner\n\n&nbsp\;\n\nTROG\nAT 2024\, 120 min\, R: Ella Hochleitner\n\nhttps://youtu.be/VEqolrMvl-U\n\nTrog ist ein altes\, verlassenes Bauernhaus in Österreich und ein stummer Zeuge von Tragödien\, die im 2.Weltkrieg und in den Jahren danach stattgefunden haben und deren Auswirkungen bis heute spürbar sind. Elf seiner Bewohner kehren an den Schauplatz ihrer Kindheit zurück und tauchen in ihre Erinnerungen ein.\n\nWas zunächst fragmentarisch wirkt\, verdichtet sich zu einem Porträt über das schier unerträgliche Schicksal und den Lebenswillen der Bäuerin Theresia: Sie bringt insgesamt 16 Kinder auf die Welt\, 14 überleben. Die NS-Zeit stürzt Theresia ganz unmittelbar in schlimmstes Leid\, doch die Jahre danach reißen mindestens ebenso große Löcher in ihre Seele. Schwere Fälle von sexueller Gewalt und Missbrauch innerhalb der Familie erschüttern ihre Existenz. Doch Theresia gelingt es\, die Familie dennoch eisern zusammenzuhalten und ist bis zu ihrem frühen Tod für 15 Menschen der Fels in der Brandung.\n\n„TROG“ beleuchtet auf den ersten Blick lokal eingegrenzte und individuelle Geschehnisse\, aber der Eindruck trügt\, denn Parallelen zu diesen Biografien und Ereignissen finden sich in vielen österreichischen Familien. Nur selten wird jedoch hingesehen und noch viel seltener auch darüber gesprochen. Unfassbar mutig stellt sich die Filmemacherin Ella (Gabriele) Hochleitner mit dieser Doku ihrer eigenen Familiengeschichte. Die Held*innen dieser Erzählung sind ihre Protagonist*innen – also Hochleitners eigene Familienmitglieder\, die vollkommen offen von den schönen und vor allem auch von den dunkelsten Momenten am Hof und ihren Folgen berichten. Die Schilderungen der elf heute erwachsenen Kinder zeigen eindrücklich\, wie Hinschauen und Reflexion die Heilung von transgenerationalen Traumata innerhalb einer Familie möglich machen\n\n&nbsp\;\n\n\n\nTickets: www.kino-freistadt.at\n\n\n\n\n\n&nbsp\;
ATTACH;FMTTYPE=image/jpeg:https://www.local-buehne.at/wp-content/uploads/2024/08/240918-FILM-Trog-1200.jpg
CATEGORIES:Film
LOCATION:Kino Freistadt\, Salzgasse 25\, Freistadt\, Oberösterreich\, 4240\, Freistadt\, Österreich
GEO:48.512609;14.5035787
X-APPLE-STRUCTURED-LOCATION;VALUE=URI;X-ADDRESS=Salzgasse 25\, Freistadt\, Oberösterreich\, 4240\, Freistadt\, Österreich;X-APPLE-RADIUS=100;X-TITLE=Kino Freistadt:geo:48.512609;14.5035787
END:VEVENT
END:VCALENDAR