BEGIN:VCALENDAR
VERSION:2.0
PRODID:-//wp-events-plugin.com//6.4.6.4//EN
BEGIN:VEVENT
UID:101@local-buehne.at
DTSTART;VALUE=DATE:20050827
DTEND;VALUE=DATE:20050828
DTSTAMP:20190924T173153Z
URL:https://www.local-buehne.at/events/the-travelling-cinema-of-bridko-bebic/
SUMMARY:The Travelling Cinema of Bridko Bebic
DESCRIPTION:1999 startete Bratko Bibic „In the Family Garden“\, ein musikalischvisuelles Projekt in vier Teilen - oder genauer Gesagt in vier Etappen.\nDenn Bibic hat sich die Zeit genommen das Projekt über mehrere Jahre hinweg weiter zu entwickeln. Mit ermöglicht hat dieser Projekt der Slowensiche Filmclub\, der Bibic ermöglichte\, mit Filmmaterial das zwischen 1905 und den sechziger Jahren gedreht wurde\, zu arbeiten.\nBratko Bibic hat dabei selbst am Schneidtisch neue Geschichten entstehen lassen ohne dabei den historischen Kontext außer Acht zu lassen.\nDer gezeigte dritte Teil behandelt den Abschnitt der späten vierziger Jahre bis hinein in die Sechziger und wiederholt dabei immer wieder Elemente der früheren Episoden.
ATTACH;FMTTYPE=image/jpeg:https://www.local-buehne.at/wp-content/uploads/2019/09/unnamed-file-38.jpeg
CATEGORIES:Archiv
LOCATION:Salzhof\, Salzgasse 15\, Freistadt\, Oberösterreich\, 4240\, Freistadt\, Österreich
GEO:48.512165;14.503003
X-APPLE-STRUCTURED-LOCATION;VALUE=URI;X-ADDRESS=Salzgasse 15\, Freistadt\, Oberösterreich\, 4240\, Freistadt\, Österreich;X-APPLE-RADIUS=100;X-TITLE=Salzhof:geo:48.512165;14.503003
END:VEVENT
END:VCALENDAR