BEGIN:VCALENDAR
VERSION:2.0
PRODID:-//wp-events-plugin.com//6.4.6.4//EN
BEGIN:VEVENT
UID:1597@local-buehne.at
DTSTART:20260917T173000Z
DTEND:20260917T173000Z
DTSTAMP:20260420T151729Z
URL:https://www.local-buehne.at/events/suonno-dajere-2/
SUMMARY:SUONNO D’AJERE
DESCRIPTION:Das glamouröse Comeback der Canzone Classica Napoletana\n&nbsp\;\n\nDer Name des 2016 gegründeten Trios aus Neapel bedeutet in etwa „Der Traum vom Gestern“ und bezieht sich auf das gleichnamige Lied auf Pino Danieles Debütalbum „Terra Mia“ (1977). Die drei jungen MusikerInnen haben sich ganz der Erforschung und zeitgemässen Neubearbeitung des traditionsreichen neapolitanischen Liedguts verschrieben. Die Besetzung erinnert an die besonders im 19. Jahrhundert beliebte neapolitanische Tradition der „Posteggia“\, Strassen- und Wirtshausmusik\, die dem Volk genauso gefiel wie den Herrschenden.\n\nDer musikalische Zugang des Trios aber ist deutlich geschliffener. Suonno d’Ajere wollen die alten Lieder von Kommerz und Kitsch befreien und ihnen ihre Würde und Kraft zurückgeben\, und das durchaus mit Erfolg: In Italien hat ihnen die stilistisch rigorose und raffinierte und für Neapel immer schon typische Verbindung von Volks- und Kunstmusik bereits einen Auftritt bei der Biennale von Venedig für die Filmmusik zum Dokumentarfilm „La Chimera“ sowie den ersten Preis beim Festival „SanremoCantaNapoli“ eingebracht.\n\nDas Debütalbum „Suspiro“ wurde 2021 weltweit veröffentlicht und prompt für den Preis der Deutschen Schallplattenkritik nominiert. Seither sind Suonno d’Ajere Dauergäste bei Showcase-Events und Festivals rund um den Globus und haben sich als die neuen BotschafterInnen des neapolitanischen Liedes im Ausland etabliert. Das neue Album „Nun v’annamurate“ („Don’t fall in love“) erscheint im Frühjahr 2024 und widmet sich ganz dem Thema Liebe in all ihren Facetten.\n\n„Das neapolitanische Lied ist kein Museumsrelikt\, keine Mumie ohne Sauerstoff. Seine Partituren sind keine zu heiligenden Pergamentrollen\, sondern ein Vermächtnis das gefeiert werden will.“ Suonno d’Ajere\n\n&nbsp\;\n\nhttps://youtu.be/XtryzR37xHk\n\nBesetzung\nGian Marco Libeccio – klassische Gitarre\nIrene Scarpato – Gesang\nMarcello Gentile Smigliante – Mandoline\, Mandoloncello\n\n&nbsp\;\n\nIRENE SCARPATO\nIrene Scarpato hat am Musikkonservatorium Neapel Jazz sowie modernen und Operngesang studiert und wurde in ihrer Heimat bereits mit zahlreichen Musik- und Lyrikpreisen ausgezeichnet. Ihre Stimme findet sich auch auf Soundtracks\, u.a. dem 2017 auf der Biennale di Venezia gezeigten Film “La Chimera” und in “Veleno” (Diego Olivares). In den Jahren 2018 und 2019 war sie Mitglied des Ensembles von Theaterregisseur Luciano Melchionna.\n\nMARCELLO SMIGLIANTE GENTILE\nMarcello Smigliante Gentile spielt seit seinem zehnten Lebensjahr Mandoline und schloss sein Musikstudium am Konservatorium in Neapel mit Auszeichnung ab. Seit 2012 spielt er in verschiedenen Ensembles\, u.a. dem Melis Mandolin Quartet\, mit dem er auf nationalen wie internationalen Konzerten und Festivals auftritt.\n\nGIAN MARCO LIBECCIO\nVon Kindheit an spielt Gian Marco Libeccio Gitarre und entdeckt schon früh die klassische Gitarre und die klassischen Neapolitanischen Lieder für sich. Am Musikkonservatorium Neapel schließt er den Studiengang Jazzmusik mit Auszeichnung ab. Live spielt er in verschiedenen Ensembles\, u.a. JFK &amp\; La Sua Bella Bionda und XHU.\n\n&nbsp\;\n\nwww.suonnodajere.it\n\n&nbsp\;\n\n&nbsp\;\n\n\n\n\n\n\n\nVorverkauf: www.local-buehne.at/tickets\nPlatzkarten EUR 24 / 27 / 30\nAbendkasse: +4\nermäßigt Abendkassa (u. a. für Ö1-\, Arbeiterkammer-\, Kupf-Mitglieder\, Schüler*innen\, Student*innen\, Präsenz- &amp\; Zivildiener\; mit gültigem Ausweis)\; Local-Bühne-Mitglieder: 1 Euro retour auf VVK an Abendkasse\n\n\n\n\n\n&nbsp\;
ATTACH;FMTTYPE=image/jpeg:https://www.local-buehne.at/wp-content/uploads/2024/11/250524-Suonno-1200.jpg
CATEGORIES:Konzert
LOCATION:Salzhof\, Salzgasse 15\, Freistadt\, Oberösterreich\, 4240\, Freistadt\, Österreich
GEO:48.512165;14.503003
X-APPLE-STRUCTURED-LOCATION;VALUE=URI;X-ADDRESS=Salzgasse 15\, Freistadt\, Oberösterreich\, 4240\, Freistadt\, Österreich;X-APPLE-RADIUS=100;X-TITLE=Salzhof:geo:48.512165;14.503003
END:VEVENT
END:VCALENDAR