BEGIN:VCALENDAR
VERSION:2.0
PRODID:-//wp-events-plugin.com//6.4.6.4//EN
BEGIN:VEVENT
UID:406@local-buehne.at
DTSTART;VALUE=DATE:20110729
DTEND;VALUE=DATE:20110730
DTSTAMP:20190924T173231Z
URL:https://www.local-buehne.at/events/sunnseitn-7/
SUMMARY:SUNNSEITN
DESCRIPTION:NAKAIRA & I BEDDI aus Sizilien\,  sowie BOHDAN UND GOTTHARD live in Rainbach\n\nNakaira und i Beddi haben sich der Musik Siziliens verschrieben. Während Nakaira in ihrer Musik verschiedenste mediterrane Einflüsse bis zum Balkan und Griechenland verarbeiten\, bringen i Beddi Stimmen und Echos aus dem ländlichen Sizilien\, zwischen Tradition und Innovation\, nach Oberösterreich. Beide Bands spielen auch am 30. Juli auf der sunnseitn-tanzlust auf.\n\nAm 29. spielen sie zum Aufwärmen ein Konzert in der Pferdeeisenbahn in Kerschbaum/Rainbach. Mit dabei in Rainbach auch Gotthard Wagner\, sunnseitn Organisator\, der mit Partner Bhodan aufspielen wird.\n\nEintritt: € 7\,-
ATTACH;FMTTYPE=image/jpeg:https://www.local-buehne.at/wp-content/uploads/2019/09/unnamed-file-358.jpeg
CATEGORIES:Archiv
END:VEVENT
END:VCALENDAR