BEGIN:VCALENDAR
VERSION:2.0
PRODID:-//wp-events-plugin.com//6.4.6.4//EN
BEGIN:VEVENT
UID:262@local-buehne.at
DTSTART;VALUE=DATE:20080727
DTEND;VALUE=DATE:20080728
DTSTAMP:20190924T173155Z
URL:https://www.local-buehne.at/events/sunnseitn-6/
SUMMARY:Sunnseitn
DESCRIPTION:Tanz ist Ausdruck von Lebenslust und Daseinsbewältigung.\nSchon zum 18. Mal findet das zweitägige Treffen in Guttenbrunn bei Hirschbach nahe Freistadt statt - aufspielen werden heuer Gruppen aus Ungarn\, Tschechien\, Italien\, Serbien\, Marokko und Österreich.\nAlle sind willkommen\, auch die\, die mit Tanz nicht so viel am Hut haben. Tanz\nwird in einfacher und lockerer Form auch absoluten AnfängerInnen vermittelt.\n\ndetailiertes Programm folgt!
ATTACH;FMTTYPE=image/jpeg:https://www.local-buehne.at/wp-content/uploads/2019/09/unnamed-file-194.jpeg
CATEGORIES:Archiv
END:VEVENT
END:VCALENDAR