BEGIN:VCALENDAR
VERSION:2.0
PRODID:-//wp-events-plugin.com//6.4.6.4//EN
BEGIN:VEVENT
UID:261@local-buehne.at
DTSTART;VALUE=DATE:20080726
DTEND;VALUE=DATE:20080727
DTSTAMP:20190924T173155Z
URL:https://www.local-buehne.at/events/sunnseitn-5/
SUMMARY:Sunnseitn
DESCRIPTION:Tanz ist Ausdruck von Lebenslust und Daseinsbewältigung.\nSchon zum 18. Mal findet das zweitägige Treffen in Guttenbrunn bei Hirschbach nahe Freistadt statt - aufspielen werden heuer Gruppen aus Ungarn\, Tschechien\, Italien\, Serbien\, Marokko und Österreich.\nAlle sind willkommen\, auch die\, die mit Tanz nicht so viel am Hut haben. Tanz\nwird in einfacher und lockerer Form auch absoluten AnfängerInnen vermittelt.\nTanzboden I (vorm Wirtshaus)\nMollner Maultrommler - Österreich\nWiener Tschuschenkapelle - Österreich/Serbien\nSalzkammergut Geigenmusi - Österreich\nTanzboden II (im Hof)\nZurgo - Ungarn\nAlberto Cantone - Italien\nTanzboden III (eh. Saustall)\nWlad Imouk Iahwa - Marokko\nCzindi Renta - Tschechien\nUrfahraner Aufgeiger - Österreich\nMobil\nPrime Pandora - Österreich\nMaul & Trommelseuche - Österreich\nVolkstänzerInnen aus der Region\nTanzboden IV (Zirkuszelt)\, ab 21.00 Uhr\nDJ DSL - Hamburg/Wien\nCherry Sunkist - Linz\nMieze Medusa und Tenderboy - Wien\nMidimarschmusik-Kapelle - Linz\n...fromthekitchen. - Linz\nFino - Linz\n\nEintritt: €14\,00 / € 12\,00 / €11\,00
ATTACH;FMTTYPE=image/jpeg:https://www.local-buehne.at/wp-content/uploads/2019/09/unnamed-file-193.jpeg
CATEGORIES:Archiv
END:VEVENT
END:VCALENDAR