BEGIN:VCALENDAR
VERSION:2.0
PRODID:-//wp-events-plugin.com//6.4.6.4//EN
BEGIN:VEVENT
UID:149@local-buehne.at
DTSTART;VALUE=DATE:20060721
DTEND;VALUE=DATE:20060722
DTSTAMP:20190924T173153Z
URL:https://www.local-buehne.at/events/summmergroove/
SUMMARY:SummmerGroove
DESCRIPTION:DIE UNSICHTBAREN (Tonträger Rec.)\n(Texta\, Rückgrat\, Die Antwort und Kayo&Phekt\, Engelstaub\, Meschugge und Joka)\nDieses fulminante Gemeinschaftsprojekt des Linzer HipHop Labels Tonträger Records vereint 12 Rapper (Texta\, Rückgrat\, Die Antwort und Kayo&Phekt\, Engelstaub\, Meschugge und Joka) und 5 Dj`s. Unterschiedlich und abwechslungsreich sind sowohl die Stimmen als auch Stile der verschieden Künstler: laufender Wechsel zwischen Mundart und Hochdeutsch\, kompromisslose Instrumentale mit pumpenden Beats und überwiegend persönliche und politisch motivierte Inhalte. Die Unsichtbaren geben kein Rapkonzert sondern ein alle Sinne ansprechendes Ereignis - Musiktheater im besten Sinn.\n\nDIE AU\nNoch vor nicht allzu langer Zeit war das Verhältnis der Natur tiefer. Wälder\nwaren Sitze der Götter und Orte des Gerichts. Die Au war Lebensraum\,\nLebensspender und Teil der Religion. Mit der Liebe zur Musik und der\nVerbundenheit zur Natur verließen zwei Geschöpfe (Average & DJ URL) ihren\nWald in Linz\, um mittels deutschsprachigem Rap in einer Welt voll Beton und\nEngstirnigkeit Bäume zu pflanzen. Textlich bewegt sich Average zwischen\nTraum und Realität\, Engel und Teufel\, Balken und Splitter. Stets\ndoppeldeutig in Sprache und Sicht\, steht die Quintessenz im Vordergrund.\nAuftritte mit TEXTA\, BLUMENTOPF\, MARKANTE HANDLUNGEN uvm. führten zu den ersten Kooperationen (zb. Huckey\,Kamp\,...) von denen die Eine oder Andere auch auf der im Mai erschienenden Promo-CD "Ausdruck" zu hören ist. Weiters ist Die Au auch auf der Soundselection vol. 14 vertreten.\n\nDJ LEX PETER (Linkmen)\n\nEintritt: € 8\,00 / Schüler und Jugendliche unter 18 Jahre € 5\,00
ATTACH;FMTTYPE=image/jpeg:https://www.local-buehne.at/wp-content/uploads/2019/09/unnamed-file-85.jpeg
CATEGORIES:Archiv
LOCATION:Salzhof\, Salzgasse 15\, Freistadt\, Oberösterreich\, 4240\, Freistadt\, Österreich
GEO:48.512165;14.503003
X-APPLE-STRUCTURED-LOCATION;VALUE=URI;X-ADDRESS=Salzgasse 15\, Freistadt\, Oberösterreich\, 4240\, Freistadt\, Österreich;X-APPLE-RADIUS=100;X-TITLE=Salzhof:geo:48.512165;14.503003
END:VEVENT
END:VCALENDAR