BEGIN:VCALENDAR
VERSION:2.0
PRODID:-//wp-events-plugin.com//6.4.6.4//EN
BEGIN:VEVENT
UID:454@local-buehne.at
DTSTART;VALUE=DATE:20050827
DTEND;VALUE=DATE:20050828
DTSTAMP:20190924T173153Z
URL:https://www.local-buehne.at/events/stefan-sterzinger-wolfgang-vincenz-wizlsperger/
SUMMARY:Stefan Sterzinger & Wolfgang Vincenz Wizlsperger
DESCRIPTION:ist es moeglich\, zwei parelelle im endlichen zu kreuzen oder waere das die quadratur des kreises ?\nist es kultur\, wenn man trotzdem lacht ?\nsolche und andere existenzielle fragen standen am beginn dieser kooperation.\ndie gueltigkeit der musikalischen antworten steht außer streit.\nsterzinger spielt accordeon\, pfeift undsingt\nwizlsperger singt auch. ansonsten blaest er kamm und tuba.\nkann sein\, er bringt auch die gitarre mit.\ngeplaudert wird diesmal eher wenig.
ATTACH;FMTTYPE=image/jpeg:https://www.local-buehne.at/wp-content/uploads/2019/09/unnamed-file-32.jpeg
CATEGORIES:Archiv
LOCATION:Salzhof\, Salzgasse 15\, Freistadt\, Oberösterreich\, 4240\, Freistadt\, Österreich
GEO:48.512165;14.503003
X-APPLE-STRUCTURED-LOCATION;VALUE=URI;X-ADDRESS=Salzgasse 15\, Freistadt\, Oberösterreich\, 4240\, Freistadt\, Österreich;X-APPLE-RADIUS=100;X-TITLE=Salzhof:geo:48.512165;14.503003
END:VEVENT
END:VCALENDAR