BEGIN:VCALENDAR
VERSION:2.0
PRODID:-//wp-events-plugin.com//6.4.6.4//EN
BEGIN:VEVENT
UID:470@local-buehne.at
DTSTART;VALUE=DATE:20100827
DTEND;VALUE=DATE:20100828
DTSTAMP:20190924T173230Z
URL:https://www.local-buehne.at/events/soyaya/
SUMMARY:SOYAYA
DESCRIPTION:Festival DER NEUE HEIMATFILM\n\nKonzert\n\nBeginn ca. 22:30 Uhr\n\nSOYAYA\n\nDie Hi Life Band Soyaya und ihr charismatischer Frontmann Devotion begeistern ihr Publikum in wechselnden Besetzungen seit Ende der 80er Jahre. Die unverwechselbaren Rhythmen Westafrikas\, genauer gesagt Ghanas\, füllen jede Tanzfläche.\n\nDJ Set\n\nBeginn ca. 23:30 Uhr\n\nTHE LAMING HIPS - Shy DJ Team
ATTACH;FMTTYPE=image/jpeg:https://www.local-buehne.at/wp-content/uploads/2019/09/unnamed-file-302.jpeg
CATEGORIES:Archiv
LOCATION:Salzhof\, Salzgasse 15\, Freistadt\, Oberösterreich\, 4240\, Freistadt\, Österreich
GEO:48.512165;14.503003
X-APPLE-STRUCTURED-LOCATION;VALUE=URI;X-ADDRESS=Salzgasse 15\, Freistadt\, Oberösterreich\, 4240\, Freistadt\, Österreich;X-APPLE-RADIUS=100;X-TITLE=Salzhof:geo:48.512165;14.503003
END:VEVENT
END:VCALENDAR