BEGIN:VCALENDAR
VERSION:2.0
PRODID:-//wp-events-plugin.com//6.4.6.4//EN
BEGIN:VEVENT
UID:150@local-buehne.at
DTSTART;VALUE=DATE:20060722
DTEND;VALUE=DATE:20060723
DTSTAMP:20190924T173153Z
URL:https://www.local-buehne.at/events/sommersprossen-7/
SUMMARY:Sommersprossen
DESCRIPTION:Alles entstand anno 2002 aus der Idee\, Freistadt auch über den Sommer mit guter Musik zu beschallen. Ein Konzept wurde entwickelt wonach das Thema „Lounge“ forciert werden sollte und schnell fand sich auch der Name „SOMMERSPROSSEN“. Anfangs wurden die Sommersprossen als Hoerkraft-Lounge betitelt\, jetzt nach bereits 5 Jahren sind sie ein eigenständiger und fixer Bestandteil im Sommerprogramm der Local-Buehne bei denen schon rund 25 KünstlerInnen aufgetreten sind.\n\nDJ Aka Tell (temp~ rec.)\nDJ X.I.L. (hoerkraft)
ATTACH;FMTTYPE=image/jpeg:https://www.local-buehne.at/wp-content/uploads/2019/09/unnamed-file-88.jpeg
CATEGORIES:Archiv
LOCATION:Salzhof\, Salzgasse 15\, Freistadt\, Oberösterreich\, 4240\, Freistadt\, Österreich
GEO:48.512165;14.503003
X-APPLE-STRUCTURED-LOCATION;VALUE=URI;X-ADDRESS=Salzgasse 15\, Freistadt\, Oberösterreich\, 4240\, Freistadt\, Österreich;X-APPLE-RADIUS=100;X-TITLE=Salzhof:geo:48.512165;14.503003
END:VEVENT
END:VCALENDAR