BEGIN:VCALENDAR
VERSION:2.0
PRODID:-//wp-events-plugin.com//6.4.6.4//EN
BEGIN:VEVENT
UID:147@local-buehne.at
DTSTART;VALUE=DATE:20060715
DTEND;VALUE=DATE:20060716
DTSTAMP:20190924T173153Z
URL:https://www.local-buehne.at/events/sommersprossen-6/
SUMMARY:Sommersprossen
DESCRIPTION:Alles entstand anno 2002 aus der Idee\, Freistadt auch über den Sommer mit guter Musik zu beschallen. Ein Konzept wurde entwickelt wonach das Thema „Lounge“ forciert werden sollte und schnell fand sich auch der Name „SOMMERSPROSSEN“. Anfangs wurden die Sommersprossen als Hoerkraft-Lounge betitelt\, jetzt nach bereits 5 Jahren sind sie ein eigenständiger und fixer Bestandteil im Sommerprogramm der Local-Buehne bei denen schon rund 25 KünstlerInnen aufgetreten sind.\n\nDJ M. Acuma (clichè ´81)\nDJ X.I.L. (hoerkraft)
ATTACH;FMTTYPE=image/jpeg:https://www.local-buehne.at/wp-content/uploads/2019/09/unnamed-file-87.jpeg
CATEGORIES:Archiv
END:VEVENT
END:VCALENDAR