BEGIN:VCALENDAR
VERSION:2.0
PRODID:-//wp-events-plugin.com//6.4.6.4//EN
BEGIN:VEVENT
UID:355@local-buehne.at
DTSTART;VALUE=DATE:20100721
DTEND;VALUE=DATE:20100722
DTSTAMP:20190924T173230Z
URL:https://www.local-buehne.at/events/sommerkino-am-braunberg/
SUMMARY:SOMMERKINO AM BRAUNBERG
DESCRIPTION:SOMMERKINO AM BRAUNBERG\n\nDie Standesbeamtin\n\nEin alljährlicher Fixpunkt im Local-Bühne Sommerprogramm ist das Sommerkino am Braunberg. Heuer wird die romantische Komödie Die Standesbeamtin gezeigt\, in der Hauptrolle die mehrfach ausgezeichnete Marie Leuenberger.\n\nDie Standesbeamtin\nLiebeskomödie\, CH 2009\, 90 min.\, R: M. Lewinsky\, mit M. Leuenberger\, R. Hubacher\, P. Hottinger\nRahel arbeitet als Standesbeamtin in einem idyllischen Schweizer Städtchen. An die große Liebe glaubt sie aber schon lange nicht mehr. Erst als ihr Jugendfreund Ben plötzlich wieder auftaucht um zu heiraten\, erinnert sich Rahel daran\, wie es sich anfühlt\, verliebt zu sein.\nRahel und Ben verbringen während der Vorbereitungen viel Zeit miteinander und erinnern sich an ihre gemeinsame Vergangenheit in der Band „Die Raben“ und ihre fast vergessene Liebe. Nicht nur alte Freunde\, sondern auch die Rahels Arbeitskollegin und der Dorfpfarrer sehen in dieser wahren Liebe eine Zukunft. Als Rahel dann auch noch ihren Mann mit einer Anderen erwischt\, ist das Chaos vorprogrammiert.\n\nErsatztermin bei Schlechtwetter: Mi. 28. Juli\n\nReservierung unter 07942/77733  oder office@local-buehne.at
ATTACH;FMTTYPE=image/jpeg:https://www.local-buehne.at/wp-content/uploads/2019/09/unnamed-file-297.jpeg
CATEGORIES:Film
END:VEVENT
END:VCALENDAR