BEGIN:VCALENDAR
VERSION:2.0
PRODID:-//wp-events-plugin.com//6.4.6.4//EN
BEGIN:VEVENT
UID:252@local-buehne.at
DTSTART;VALUE=DATE:20080419
DTEND;VALUE=DATE:20080420
DTSTAMP:20190924T173155Z
URL:https://www.local-buehne.at/events/sigi-zimmerschied/
SUMMARY:Sigi Zimmerschied
DESCRIPTION:Vor kurzem schoß sich ein Amerikaner mit einer Nagelmaschine zwölf Stahlstifte in den Kopf ohne bleibende Schäden. Ein Albtraum?\nEher ein Zukunftsmodell. Eine neue Maßeinheit für Glück. Der Zwölfer. Die Renaissance des Fundamentalismus. Der neue Heiterkeitscodex der globalen Selbstmordattentäter. 12 Nägel im Schädel bedeuten Seligkeit. Den SPD ler erkennt man daran\, daß er versucht\, sich einen dreizehnten in den Kopf zu hämmern und die vielen Durchschnittssechser\, die sich als einbeinige Neuner tarnen\, schwelgen im Glück\, weil eine Fahne im Auto nicht mehr automatisch Führerscheinentzug bedeutet. Wer versteckt die hartzigen Vierer? Wer entsorgt die Nuller\, die Empfindlichen\, denen ein Pilchernagel im Kopf schon zu viel ist? Ein Spiel über den Weg ins kollektive Analphabetentum\, vernagelte Hirne und Ämter\, die das Nichts verwalten.\n\nwww.sigi-zimmerschied.de\n\nEintritt: €17\,00\nKartenvorverkauf in allen OÖ Raibas und im Kino Freistadt
ATTACH;FMTTYPE=image/jpeg:https://www.local-buehne.at/wp-content/uploads/2019/09/unnamed-file-182.jpeg
CATEGORIES:Kabarett
LOCATION:Salzhof\, Salzgasse 15\, Freistadt\, Oberösterreich\, 4240\, Freistadt\, Österreich
GEO:48.512165;14.503003
X-APPLE-STRUCTURED-LOCATION;VALUE=URI;X-ADDRESS=Salzgasse 15\, Freistadt\, Oberösterreich\, 4240\, Freistadt\, Österreich;X-APPLE-RADIUS=100;X-TITLE=Salzhof:geo:48.512165;14.503003
END:VEVENT
END:VCALENDAR