BEGIN:VCALENDAR
VERSION:2.0
PRODID:-//wp-events-plugin.com//6.4.6.4//EN
BEGIN:VEVENT
UID:144@local-buehne.at
DTSTART;VALUE=DATE:20060707
DTEND;VALUE=DATE:20060708
DTSTAMP:20190924T173153Z
URL:https://www.local-buehne.at/events/sigi-finkel/
SUMMARY:Sigi Finkel
DESCRIPTION:Ist eine mitreissende Peformance arabischer Bauchtanzkultur\, abwechselnd verpackt in spannende jazzige Sounds\, gefühlvolle Balladen und raffinierte Rhythmen\n\nWar Steptanz früher ein wesentliches Element im Jazz\, ist Tanz im heutigen Jazz nur noch in seltenen Fällen ein aktiver Bestandteil.\nSigi Finkel\, Spezialist für Cross-Over entwickelte eigens jazzig-arabische Tunes für den Star unter den Bauchtanzkünstlerinnen - Dunia.\nDie in Ägypten geboren und im Libanon aufgewachsene Tänzerin gehört seit vielen Jahren zur Weltspitze dieses schwierigen Genres. Seit Jahren verzaubert sie die Tanzwelt mit ausdrucksstarkem orientalischen Tanz\, der aus alten ägyptischen Traditionen schöpft. Für dieses Trio hat sie eine spezielle Choreographie gestaltet\, die in Zusammenarbeit mit der Band entstand.
ATTACH;FMTTYPE=image/jpeg:https://www.local-buehne.at/wp-content/uploads/2019/09/unnamed-file-78.jpeg
CATEGORIES:Archiv
END:VEVENT
END:VCALENDAR