BEGIN:VCALENDAR
VERSION:2.0
PRODID:-//wp-events-plugin.com//6.4.6.4//EN
BEGIN:VEVENT
UID:1528@local-buehne.at
DTSTART:20251019T140000Z
DTEND:20251019T140000Z
DTSTAMP:20251016T165255Z
URL:https://www.local-buehne.at/events/samia/
SUMMARY:SAMIA
DESCRIPTION:Filmvorstellung im Rahmen des 9. Internationales Menschenrechtesymposiums\nwww.menschenrechtesymposium.eu\n\n\nMit anschließender Diskussion mit Maria Fellinger und Ikechukwu Okafor\n\n\n\nSAMIA\nIT/DE/BE/SE 2024\, 103 min\, ab 14 Jahren\, DF\, R: Yasemin Samdereli\, D: llham Mohamed Osman\, Kaltuma Mohamed Abdi\, Fathia Mohamed Absie\, u.a. \nWarum nehmen Menschen den gefährlichen Weg von Afrika nach Europa in Kauf? Welche Hoffnungen und Erwartungen haben sie? Die somalische Läuferin Samia Yusuf Omar (Ilham Mohamed Osman) war eine von ihnen. Bei den Olympischen Spielen 2008 kam sie als letzte Läuferin ins Ziel und das Foto von ihr ging um die Welt. Doch kurz danach erhielt sie von ihrem Land keine Unterstützung mehr und dieser Zustand war für sie der Startschuss einer unerträglichen Odyssee\, die letztendlich 2012 kurz vor Lampedusa im Mittelmeer ihr Ende fand.\n\nWie so viele andere auch\, war Samia auf der Suche. Auf der Suche nach einem besseren Leben und vor allem danach\, ein lebenswürdiges Leben zu führen und vielleicht auch der eigenen Familie helfen zu können.\nhttps://youtu.be/mP02j0LjOF4\nBasiert auf dem Roman „Sag nicht\, dass du Angst hast“ des italienischen Journalisten Guiseppe Catozzella\, der die Geschichte Samias recherchiert und dafür mit ihrer in Finnland lebenden Schwester gesprochen hat.\n\n\n\n\n\n\n\n\nTickets: www.kino-freistadt.at\n\n\n\n
ATTACH;FMTTYPE=image/jpeg:https://www.local-buehne.at/wp-content/uploads/2025/10/251019-FILM-Samia-1200.jpg
CATEGORIES:Film
LOCATION:Kino Freistadt\, Salzgasse 25\, Freistadt\, Oberösterreich\, 4240\, Freistadt\, Österreich
GEO:48.512609;14.5035787
X-APPLE-STRUCTURED-LOCATION;VALUE=URI;X-ADDRESS=Salzgasse 25\, Freistadt\, Oberösterreich\, 4240\, Freistadt\, Österreich;X-APPLE-RADIUS=100;X-TITLE=Kino Freistadt:geo:48.512609;14.5035787
END:VEVENT
END:VCALENDAR