BEGIN:VCALENDAR
VERSION:2.0
PRODID:-//wp-events-plugin.com//6.4.6.4//EN
BEGIN:VEVENT
UID:1435@local-buehne.at
DTSTART:20250228T183000Z
DTEND:20250228T183000Z
DTSTAMP:20250205T091612Z
URL:https://www.local-buehne.at/events/rudi-anschober/
SUMMARY:RUDI ANSCHOBER ☆VERSCHOBEN☆
DESCRIPTION:KRANKHEITSBEDINGT VERSCHOBEN\nvon Mi. 5. Feb. auf Fr. 28. Februar 2025\nKarten behalten ihre Gültigkeit für den neuen Termin\,\nkönnen aber auch zurückgegeben werden.\nKontakt: office@local-buehne.at\n\n\nWie wir uns die Zukunft zurückholen\n&nbsp\;\n\nWie die Klimawende gelingen und ein gutes Leben bringen kann\n\n2040: Unser Leben ist besser geworden. Eine scheinbar kuriose Behauptung angesichts der vielen Krisen\, die wir in der Gegenwart erleben. Doch Rudi Anschober zeigt in seiner ebenso Hoffnung machenden wie realistischen Zukunftserzählung: Wir können es gut haben. Anschober skizziert die Weichenstellungen\, die es dafür in den nächsten entscheidenden Jahren braucht. Dafür bietet jeder Tag neue Chancen: Neue Pfade zu gehen\, neue Strategien zu entwickeln\, die große Trendwende einzuleiten. Oder\, in den Worten von Oscar Wilde: Fortschritt ist nur die Verwirklichung von Utopien.\n\nDaher ist Anschober überzeugt: Es ist nicht die Zeit für Resignation\, es ist nie zu spät für den Traum der Veränderung. Diese auf Wissenschaft\, Fakten und Optimismus setzende Vision zeigt\, wie ein gutes Leben mit der Klimawende aussehen kann – und wie es möglich wird. Unverklärt\, der Realität ins Auge sehend\, Mut machend. Ein Buch\, das wir alle brauchen.\n\nEin Buch\, das Mut macht: Handeln statt resignieren\n\n&nbsp\;\n\nRudi Anschober\, geboren 1960 in Wels\, war Lehrer und Journalist\, später langjähriger Landesrat für Klimaschutz und Integration in Oberösterreich. Von Januar 2020 bis Mitte April 2021 war er Sozial- und Gesundheitsminister der türkis-grünen österreichischen Bundesregierung. 2022 erschien sein Bestseller Pandemia. Einblicke und Aussichten. Seit seinem Rückzug aus der Parteipolitik ist Rudi Anschober als gefragter Vortragsredner\, Autor und Berater tätig.\n\nwww.anschober.at\nFoto © Gianmaria Gava/Brandstätter Verlag\n\n&nbsp\;\n\nin Zusammenarbeit mit \n\nwww.energiebezirk.at\n\n\n\n\n\n\n\n\n\n\nVorverkauf: www.local-buehne.at/tickets\nVorverkauf EUR 13\n\nAbendkasse: 16\,- / 14\,-\n\nAbendkasse Preis 1: Vollpreis Abendkassa\; Preis 2: ermäßigt Abendkassa (u. a. für Ö1-\, Arbeiterkammer-\, Kupf-Mitglieder\, Schüler*innen\, Student*innen\, Präsenz- &amp\; Zivildiener\; mit gültigem Ausweis)\; Local-Bühne-Mitglieder: 1 Euro retour auf VVK an Abendkasse\n\n\n\n
ATTACH;FMTTYPE=image/jpeg:https://www.local-buehne.at/wp-content/uploads/2024/11/250205-Anschober-1200.jpg
CATEGORIES:Lesung
LOCATION:Salzhof\, Salzgasse 15\, Freistadt\, Oberösterreich\, 4240\, Freistadt\, Österreich
GEO:48.512165;14.503003
X-APPLE-STRUCTURED-LOCATION;VALUE=URI;X-ADDRESS=Salzgasse 15\, Freistadt\, Oberösterreich\, 4240\, Freistadt\, Österreich;X-APPLE-RADIUS=100;X-TITLE=Salzhof:geo:48.512165;14.503003
END:VEVENT
END:VCALENDAR