BEGIN:VCALENDAR
VERSION:2.0
PRODID:-//wp-events-plugin.com//6.4.6.4//EN
BEGIN:VEVENT
UID:534@local-buehne.at
DTSTART;VALUE=DATE:20130512
DTEND;VALUE=DATE:20130513
DTSTAMP:20190924T180629Z
URL:https://www.local-buehne.at/events/romeo-julia/
SUMMARY:ROMEO & JULIA
DESCRIPTION:ROMEO UND JULIA\n\nBallett in 2 Akten von Sergei Prokofjev \n\nKino Freistadt\, **LIVE** aus dem Bolschoi Theater\, Moskau\n\n\nLibretto von Sergej Prokofjew\, Sergej Radlow\, Adrian Piotrowski nach dem gleichnamigen Theaterstück von William Shakespeare in der Version von Juri Grigorowitsch\nMusik: Sergei PROKOFJEV\nChoreographie: Juri GRIGOROWICH\nAssistenz Choreographie: Vasily VOROKHOBKO\nBühnenbild und Kostüme: Simon VIRSALADZE\nLichtdesign: Mikhail SOKOLOV\n\nMit dem Orchester des Russischen Staatlichen Akademischen Bolschoi-Theaters\nMit den Solotänzern des Bolschoi und dem Corps de Ballet des Bolschoi\n\n\n\nCHOREOGRAPHIE:\nJuri Grigorowitsch: Nach seiner Aufnahme in der Leningrader Ballettschule im Jahr 1946 wurde Juri Grigorowitsch Solist des Kirov-Balletts in St. Petersburg\, wo er bis 1962 blieb. Er kam 1964 zum Bolschoi-Theater\, dessen künstlerischer Leiter er bis 1995 war. Nach dem Tod seiner Frau\, der Primaballerina Natalia Bessmertnova\, am 19. Februar 2008\, erhielt er die Möglichkeit\, wieder als Ballettmeister und Choreograph an das Bolschoi zurückzukehren. Seine berühmtesten Werke sind Der Nussknacker\, Spartacus und Iwan der Schreckliche.\n\nHINTEGRUND:\nDas auf dem Theaterstück von William Shakespeare basierende Ballett Romeo und Julia gehört zu den beliebtesten Balletten der Welt. Dennoch war seine Kreation schwierig. Ursprünglich vom Leningrader Kirov-Ballett im Jahre 1934 in Auftrag gegeben\, wurde Sergei Prokofjews Romeo und Julia erst 1940 am Kirov und 1946 am Bolschoi uraufgeführt. Tatsächlich lehnten die beiden Ensembles zunächst das Thema\, dann die Schritte\, die Ballett-Tänzer für „untanzbar“ erklärten\, und schließlich die Partitur ab\, die für unhörbar erachtet wurde. \nHeutzutage gilt dieses Ballett als Sergei Prokofjews wertvollste Arbeit wegen seiner hohen melodischen Inspiration\, die große Vielfalt der Rhythmen und den denkwürdigen Hauptfiguren sein. Im Jahr 1978 erweckte Juri Grigorowitsch Sergei Prokofjews Produktion für die Pariser Oper zu neuem Leben\, und feierte hiermit 1979 am Bolschoi-Theater Premiere. Die heutige choreographische Version ist eine Wiederaufführung dieser ersten Produktion. Die Uraufführung fand am 21. April 2010 am Bolschoi-Theater statt. In dieser Version wird Shakespeares Tragödie sehr abstrakt dargestellt. Shakespeares Welt wurde verallgemeinert und von Alltagsdingen befreit\, sodass nichts vom Hauptthema ablenkt. Grigorowitsch entwickelt die Hauptfigur aus seinen persönlichen Erinnerungen an Natalia Bessmertnova\, seiner allerersten Julia (1978)\, und wichtigsten Inspirationsquelle.\n\nINHALT:\nZum Entsetzen von Prinz Escalus\, bringt die Rivalität zwischen den Capulets und Montagues Blutvergießen in die Stadt Verona. Romeo\, der Erbe der Montagues\, ist verzweifelt\, als seine Liebe zu Rosalinde nicht erwidert wird. Um ihn zu trösten\, überredet ihn sein Freund Mercutio zur Teilnahme an einem Ball\, den Capulet ausrichtet. um potentielle Verehrer für seine Tochter Julia zu finden. Romeo nimmt inkognito am Ball im Hause der Capulets teil. Als sich Romeo und Julia dann allerdings treffen\, verlieben sich die beiden sofort unsterblich ineinander. Sie sind erschüttert\, als sie entdecken\, dass sie zu zwei rivalisierenden Familien gehören ...\n\nZeitplan\n16:40 – 17:00 Pre-Show (Ansichten aus Moskau)\n17:00 – 17:03 Einführung Katerina Novikova\n17:03 – 17:52 Akt 1\n17:52 – 18:15 Pause (mit Interview)\n18:15 – 18:18 Präsentation Katerina Novikova\n18:18 – 19:24 Akt 2\n19:24 – 19:28 Vorhang / Credits / Ende\n\nEintritt: 22\,-//ermäßigt: 17\,-
ATTACH;FMTTYPE=image/jpeg:https://www.local-buehne.at/wp-content/uploads/2019/09/unnamed-file-479.jpeg
CATEGORIES:Archiv
LOCATION:Kino Freistadt\, Salzgasse 25\, Freistadt\, Oberösterreich\, 4240\, Freistadt\, Österreich
GEO:48.512609;14.5035787
X-APPLE-STRUCTURED-LOCATION;VALUE=URI;X-ADDRESS=Salzgasse 25\, Freistadt\, Oberösterreich\, 4240\, Freistadt\, Österreich;X-APPLE-RADIUS=100;X-TITLE=Kino Freistadt:geo:48.512609;14.5035787
END:VEVENT
END:VCALENDAR