BEGIN:VCALENDAR
VERSION:2.0
PRODID:-//wp-events-plugin.com//6.4.6.4//EN
BEGIN:VEVENT
UID:1386@local-buehne.at
DTSTART:20240615T180000Z
DTEND:20240615T180000Z
DTSTAMP:20240527T184200Z
URL:https://www.local-buehne.at/events/pubquiz-juni-24/
SUMMARY:PUBQUIZ JUNI 24
DESCRIPTION:&nbsp\;\nDas JUNI-PUBQUIZ im Local im Kino Freistadt\n20 Fragen\, in frühlingsfroher Handarbeit hergestellt in der Quizmanufaktur von Julia &amp\; Michael mit Support von den Fragenarbeitern Paul\, Felix\, Kevin und Klaus!\n&nbsp\;\n❅❅❅❅❅\ndas PUBQUIZ\n:: 20 Fragen\n:: das Team (max 6 Pers.) mit den meisten Punkten gewinnt\n:: Gutscheine fürs Local oder Local-Bühne Veranstaltungen\n❅❅❅❅❅\n&nbsp\;\nTeam-Anmeldung ab 19. Mai per Mail an office@local-buehne.at \n&nbsp\;\n❅❅❅❅❅\nInfos zum Quiz:\nWie groß darf eine Gruppe sein?\n- In jeder Gruppe dürfen eine bis sechs Personen teilnehmen.\nWie viele Fragen gibt es?\n- Das Quiz besteht aus 20 Fragen und 2 Schätzfragen.\nWer Gewinnt?\n- Das Team mit den meisten richtigen Antworten gewinnt.\nAus welchen Kategorien kommen die Fragen?\n- Aus allen möglichen Kategorien z.B. Sport\, Geschichte\, Kultur\, etc.\nSind Handys erlaubt?\n- Nein!\nWie lange hat man pro Frage zeit um eine Lösung zu finden?\n- Man hat ca. drei bis vier Minuten zeit. Die Antworten werden auf einen Zettel geschrieben. Danach werden die Antworten eingesammelt und eine neue Frage wird gestellt.\nWie viele Punkte gibt es pro Frage?\n- Pro Frage gibt es einen Punkt. Also bei 20 Fragen gibt es max. 20 Punkte. Auch 1/2 Punkte sind möglich bei teilrichtigen Antworten\n❅❅❅❅❅\n\n\n\n\n\n
ATTACH;FMTTYPE=image/jpeg:https://www.local-buehne.at/wp-content/uploads/2024/01/240000-PQ-FB-VA.jpg
CATEGORIES:Live
LOCATION:Local im Kino Freistadt\, Salzgasse 25\, Freistadt\, Oberösterreich\, 4240\, Freistadt\, Österreich
GEO:48.512609;14.5035787
X-APPLE-STRUCTURED-LOCATION;VALUE=URI;X-ADDRESS=Salzgasse 25\, Freistadt\, Oberösterreich\, 4240\, Freistadt\, Österreich;X-APPLE-RADIUS=100;X-TITLE=Local im Kino Freistadt:geo:48.512609;14.5035787
END:VEVENT
END:VCALENDAR