BEGIN:VCALENDAR
VERSION:2.0
PRODID:-//wp-events-plugin.com//6.4.6.4//EN
BEGIN:VEVENT
UID:1509@local-buehne.at
DTSTART:20251011T180000Z
DTEND:20251011T180000Z
DTSTAMP:20250826T093650Z
URL:https://www.local-buehne.at/events/poetry-slam-oktober-2025/
SUMMARY:POETRY SLAM OKTOBER 2025
DESCRIPTION:\nEintritt frei\n\n&nbsp\;\n\nWas ist ein Poetry Slam?\n\nEin Poetry Slam ist ein Wettstreit um die Gunst des Publikums. Die Poet*innen tragen selbstgeschriebene Texte auf ihre ganz persönliche Weise vor. Ob Lyrik oder Prosa\, geschrien oder geflüstert\, lustig oder nachdenklich - fast alles ist erlaubt. Es gibt nur 3 Regeln: Die Texte müssen selbstgeschrieben sein\, innerhalb eines Zeitrahmens von 6 Minuten vorgetragen werden und es dürfen keine Requisiten oder Verkleidungen auf der Bühne getragen werden. Das Publikum bewertet das Vorgetragene und am Ende des Abends gewinnt jemand nichts geringeres als Ruhm\, Ehre\, Applaus und einen noch nicht festgelegten Preis.\n\n&nbsp\;\n\nStartplätze für Spontanentschlossene werden freigehalten. Du willst selbst Teil des Wettbewerbs sein? Dann schreib uns doch gerne!\nwortwerkler@gmail.com\n\n&nbsp\;\n\nEinlass: 19:30\nBeginn: 20:00\n\nLOCAL im Kino Freistadt\n\n&nbsp\;\n\nIn Kooperation mit Wortwerkler\nFoto: Matthes Jungling / unsplash\n\n\n&nbsp\;\n\n\n\n\n&nbsp\;\n\n&nbsp\;
ATTACH;FMTTYPE=image/jpeg:https://www.local-buehne.at/wp-content/uploads/2025/08/251011-Poetry-Slam-FB-VA.jpg
CATEGORIES:Lesung,Literatur
LOCATION:Kino Freistadt\, Salzgasse\, 25\, Freistadt\, 4240\, Österreich
X-APPLE-STRUCTURED-LOCATION;VALUE=URI;X-ADDRESS=Salzgasse\, 25\, Freistadt\, 4240\, Österreich;X-APPLE-RADIUS=100;X-TITLE=Kino Freistadt:geo:0,0
END:VEVENT
END:VCALENDAR