BEGIN:VCALENDAR
VERSION:2.0
PRODID:-//wp-events-plugin.com//6.4.6.4//EN
BEGIN:VEVENT
UID:1330@local-buehne.at
DTSTART:20240120T190000Z
DTEND:20240120T190000Z
DTSTAMP:20240527T185123Z
URL:https://www.local-buehne.at/events/poetry-slam-9/
SUMMARY:POETRY SLAM
DESCRIPTION:\nEintritt frei\n\n&nbsp\;\n\nWas ist ein Poetry Slam?\n\nEin Poetry Slam ist ein Wettstreit um die Gunst des Publikums. Die Poet*innen tragen selbstgeschriebene Texte auf ihre ganz persönliche Weise vor. Ob Lyrik oder Prosa\, geschrien oder geflüstert\, lustig oder nachdenklich - fast alles ist erlaubt. Es gibt nur 3 Regeln: Die Texte müssen selbstgeschrieben sein\, innerhalb eines Zeitrahmens von 6 Minuten vorgetragen werden und es dürfen keine Requisiten oder Verkleidungen auf der Bühne getragen werden. Das Publikum bewertet das Vorgetragene und am Ende des Abends gewinnt jemand nichts geringeres als Ruhm\, Ehre\, Applaus und einen noch nicht festgelegten Preis.\n\n&nbsp\;\n\nStartplätze für Spontanentschlossene werden freigehalten. Du willst selbst Teil des Wettbewerbs sein? Dann schreib uns doch gerne!\nwortwerkler@gmail.com\n\n&nbsp\;\n\nEinlass: 19:00\nBeginn: 20:00\n\n&nbsp\;\n\nLocation: Local im Kino Freistadt\nSalzgasse 25\n4240 Freistadt\n\nIn Kooperation mit Wortwerkler\n\n\n&nbsp\;\n\n\n&nbsp\;\n\n&nbsp\;\n\n
ATTACH;FMTTYPE=image/jpeg:https://www.local-buehne.at/wp-content/uploads/2023/11/240120-Poetry-Slam-FB-VA.jpg
CATEGORIES:Lesung
LOCATION:Local im Kino Freistadt\, Salzgasse 25\, Freistadt\, Oberösterreich\, 4240\, Freistadt\, Österreich
GEO:48.512609;14.5035787
X-APPLE-STRUCTURED-LOCATION;VALUE=URI;X-ADDRESS=Salzgasse 25\, Freistadt\, Oberösterreich\, 4240\, Freistadt\, Österreich;X-APPLE-RADIUS=100;X-TITLE=Local im Kino Freistadt:geo:48.512609;14.5035787
END:VEVENT
END:VCALENDAR