BEGIN:VCALENDAR
VERSION:2.0
PRODID:-//wp-events-plugin.com//6.4.6.4//EN
BEGIN:VEVENT
UID:1336@local-buehne.at
DTSTART:20240517T180000Z
DTEND:20240517T180000Z
DTSTAMP:20240527T184721Z
URL:https://www.local-buehne.at/events/petutschnig-hons-2/
SUMMARY:PETUTSCHNIG HONS
DESCRIPTION:Bauernschlau\n\nKabarettist und Biolandwirt Wolfgang Feistritzer\, besser bekannt als Petutschnig Hons\, ist bekannt für seine Offenheit im tiefsten Oberkärntner Dialekt. Auf seinem Facebook-Account unterhält er mit seinen berühmten Monologen fast 200.000 Fans und sein Youtube-Kanal zählt über 150.000 Abonennt*innen. Eines haben seine Videos neben dem humoristischen Zugang immer gemein: Sie sind mit schonungsloser Kritik gespickt und er zeigt sich als genauer Beobachter der politischen Situation in Österreich.\n\nIn seinem neuen Programm „Bauernschlau“ tritt er erneut als ehrliche und kompromisslose Kraft vom Land auf\, die aus der Perspektive der Landwirt*innen Scharlatanerien und Betrügereien aufs Korn nimmt. Frei nach dem Motto: „Hons oder gor nit!“ philosophiert er über den ganz normalen Wahnsinn unseres Alltags.\n\nwww.petutschnig-hons.at\n\n&nbsp\;\n\n\n\n\n\n\n\nVorverkauf: kupfticket.com/shops/lb\nVorverkauf EUR 31\n\nAbendkasse: 35\,- / 33\,-\n\nAbendkasse Preis 1: Vollpreis Abendkassa\; Preis 2: ermäßigt Abendkassa (u. a. für Ö1-\, Arbeiterkammer-\, Kupf-Mitglieder\, Schüler*innen\, Student*innen\, Präsenz- &amp\; Zivildiener\; mit gültigem Ausweis)\; Local-Bühne-Mitglieder: 1 Euro retour auf VVK an Abendkasse\n\n\n\n
ATTACH;FMTTYPE=image/jpeg:https://www.local-buehne.at/wp-content/uploads/2023/11/240517-PetHon-1200.jpg
CATEGORIES:Kabarett
LOCATION:Salzhof Freistadt\, Salzgasse 15\, Freistadt\, Oberösterreich\, 4240\, Österreich
X-APPLE-STRUCTURED-LOCATION;VALUE=URI;X-ADDRESS=Salzgasse 15\, Freistadt\, Oberösterreich\, 4240\, Österreich;X-APPLE-RADIUS=100;X-TITLE=Salzhof Freistadt:geo:0,0
END:VEVENT
END:VCALENDAR