BEGIN:VCALENDAR
VERSION:2.0
PRODID:-//wp-events-plugin.com//6.4.6.4//EN
BEGIN:VEVENT
UID:260@local-buehne.at
DTSTART;VALUE=DATE:20080712
DTEND;VALUE=DATE:20080713
DTSTAMP:20190924T173155Z
URL:https://www.local-buehne.at/events/peter-ratzenbeck/
SUMMARY:Peter Ratzenbeck
DESCRIPTION:Er ist ein Musiker zum Anfassen\, bodenständig und ohne Starallüren. Seine 13 bislang erschienenen Soloalben wurden von der Presse und dem Publikum mit Superlativen bedacht. „Österreichs Paradegitarrist“ genießt große Anerkennung in Fachkreisen und ist nicht nur wegen seiner exzellenten Musik\, sondern auch wegen seines Charmes beliebt.\n\nEintritt: €13\,00 / € 11\,00 / €10\,00\nKartenreservierung unter 07942 / 777 33 oder office@local-buehne.at\n\nwww.peter-ratzenbeck.at
ATTACH;FMTTYPE=image/jpeg:https://www.local-buehne.at/wp-content/uploads/2019/09/unnamed-file-192.jpeg
CATEGORIES:Archiv
END:VEVENT
END:VCALENDAR