BEGIN:VCALENDAR
VERSION:2.0
PRODID:-//wp-events-plugin.com//6.4.6.4//EN
BEGIN:VEVENT
UID:1357@local-buehne.at
DTSTART:20240927T180000Z
DTEND:20240927T180000Z
DTSTAMP:20240527T184308Z
URL:https://www.local-buehne.at/events/omar-sarsam-2/
SUMMARY:OMAR SARSAM
DESCRIPTION:\n\n\n\n\nSONDERKLASSE\n\nGanz Andere\, aber von Gleiche.\n\nSuche Begleitung für einen Abend\, 18-99 Jahre\, Geschlecht egal. Die mich auf dem Weg vom Lebensretter bis hin zur völligen Systemirrelevanz begleitet. Gerne auch Paare oder Gruppen. Bewerbungen je nach Terminverfügbarkeit unter www.omarsarsam.com oder beim Veranstalter Ihres Vertrauens.\n\nMit anderen Worten: Gönnen wir uns gute 90 Minuten ohne Abstriche. Aber Sonderklasse.\nDurchleuchtung erwünscht - Kontrastmittel: Musik.\n\nDieser Arztbesuch ersetzt keinen Arztbesuch.\n\nAlle Klassen\nKeine Kassen\nEuer Omar Sarsam\n\n////////////\n\nNach Jahren der gelebten Praxis als Kabarettist und Arzt verschwimmen für Omar Sarsam manchmal die Grenzen dazwischen. Vollgepackt mit Besonderheiten aus beiden Welten ist er jedenfalls. Und reif für die „Sonderklasse“. Mehr darüber verrät uns Omar Sarsam ab September 2021 in seinem neuen gleichnamigen Soloprogramm!\n\n////////////\n\nZur Person\n\nDer Kabarettist und Kinderchirurg Omar Sarsam ist ein echter Wiener. Hat also irakische Wurzeln mit tschechischen und kroatischen Einflüssen und ist in Österreich aufgewachsen\, was seiner Meinung nach ein Privileg darstellt. 2004 stand er bei der Impro-Show „Hands Up“ im Wiener Kabarett Niedermair erstmals auf der Kabarettbühne. Gemeinsam mit Marc Bernhuber landete er als die „Discoparty Brothers“ den Hit „Disco\, Disco\, Party\, Party“ mit mehr als 16 Millionen Klicks auf Youtube. Im Februar 2016 präsentierte Omar Sarsam sein erstes Soloprogramm „Diagnose:Arzt“\, 2017 folgte das Adventprogramm „Oh Du Andere“. Von 2018 – 2020 war er mit seinem zweiten Kabarettprogramm „HERZALARM“ unterwegs.\n\nOmar Sarsam wirkt regelmäßig bei TV-Sendungen wie „Was gibt es Neues“ oder „Kabarettgipfel“ im ORF mit und führte 2019 durch das Puls 4-Format „Comedy Grenzgänger“. Mit Michael Niavarani und Klaus Eckel gemeinsamer Podcast „Alles außer Corona“.\n\nOmar Sarsam ist verheiratet und hat 2 Kinder.\n\n&nbsp\;\n\n\n\n\n\n\n\n\n\n\nVorverkauf: local-buehne.at/tickets\nVorverkauf EUR 28 / 33 / 38\n\nLocal-Bühne-Mitglieder: 1 Euro retour auf VVK an Abendkasse\n\n\n\n
ATTACH;FMTTYPE=image/jpeg:https://www.local-buehne.at/wp-content/uploads/2024/02/240927-Omar-1200.jpg
CATEGORIES:Kabarett
LOCATION:Salzhof\, Salzgasse 15\, Freistadt\, Oberösterreich\, 4240\, Freistadt\, Österreich
GEO:48.512165;14.503003
X-APPLE-STRUCTURED-LOCATION;VALUE=URI;X-ADDRESS=Salzgasse 15\, Freistadt\, Oberösterreich\, 4240\, Freistadt\, Österreich;X-APPLE-RADIUS=100;X-TITLE=Salzhof:geo:48.512165;14.503003
END:VEVENT
END:VCALENDAR