BEGIN:VCALENDAR
VERSION:2.0
PRODID:-//wp-events-plugin.com//6.4.6.4//EN
BEGIN:VEVENT
UID:1595@local-buehne.at
DTSTART:20261209T183000Z
DTEND:20261209T183000Z
DTSTAMP:20260420T125632Z
URL:https://www.local-buehne.at/events/nina-fiva-sonnenberg/
SUMMARY:NINA FIVA SONNENBERG
DESCRIPTION:\n\nim Rahmen der Literaturtage Freistadt\n\n&nbsp\;\nDAS HERZ\, EIN WOLF\nLESUNG &amp\; MUSIK\nEin heißer Münchner Sommer: Während die ganze Welt im Freibad ist\, auch ihr Freund und ihr Kind\, sitzt Nele Kastner am Sterbebett ihres Vaters und wartet mit ihm auf den Tod. Und obwohl er doch natürlich ist\, dieser Tod\, wirkt kurz vorm Ende alles wie Theater.\n\nIn der Hauptrolle: Das fehlende Gespräch. Denn da der Vater nicht mehr sprechen kann\, übernimmt Nele es\, die gemeinsame Geschichte zu erzählen. Vom Aufwachsen im kleinbürgerlichen Vorstadtmilieu der 1980er- und 1990er-Jahre. Vom Psychofasten und von Bröselneurosen\, von ersten und von letzten Malen\, von Kastenläufen und Familienritualen. Von dem\, was einen klein hält\, und dem\, was einen groß macht.\n\nUnd keine Angst – man glaubt nicht\, wieviel Humor in den letzten Erzählungen liegen kann.\n\nDer großartige Debütroman der als FIVA bekannten Musikerin und Moderatorin (FM4\, BR2\,3sat\, ZDFkultur)\, zweimal für den Grimme-Preis nominiert. In süchtig machendem Sound erzählt Nina Sonnenberg schonungslos\, zärtlich und mitbestechendem Witz von einer Vorstadtjugend in den 90ern\, von familiären Prägungen\, vomLeben und vom Sterben.\n\n»Eine fein und sensibel erzählte Geschichte\, die alle Kinder der 80er zurückführt in eineKindheit voller Zigarettenrauch und Knorr-Suppen.« Eva Karl Faltermeier\n\nFür alle Leser:innen von Joachim Meyerhoff\, Giulia Becker und Stefanie Sargnagel\n\n&nbsp\;\n\n\n\n\n\n\n\n\n\nVorverkauf: local-buehne.at/tickets\nVorverkauf EUR 13\,-\nAbendkasse: 16\,- / 14\,-\nU21: Eintritt frei!\n\n\n\n
ATTACH;FMTTYPE=image/jpeg:https://www.local-buehne.at/wp-content/uploads/2026/04/261209-Fiva-1200.jpg
CATEGORIES:Konzert,Lesung,Literatur
END:VEVENT
END:VCALENDAR