BEGIN:VCALENDAR
VERSION:2.0
PRODID:-//wp-events-plugin.com//6.4.6.4//EN
BEGIN:VEVENT
UID:146@local-buehne.at
DTSTART;VALUE=DATE:20060715
DTEND;VALUE=DATE:20060716
DTSTAMP:20190924T173153Z
URL:https://www.local-buehne.at/events/mondscheiner/
SUMMARY:Mondscheiner
DESCRIPTION:Mondscheiner lassen antanzen und rocken die Besinnlichkeit. Inklusive Weltuntergang MONDSCHEINER sind eine vierköpfge Band aus Wien\, die sich der ´Alternative Pop-Rock-Szene´ zugehörig fühlt. Mit Cello\, Keyboards\, Gitarre\, Melodika\, Sampler sowie Bass und Schlagzeug besiedeln sie dabei ihre ganz eigene Nische und schaffen mit ihren Stücken eine ganz eigene Atmosphäre\, zu der auch die Lyrics das ihre beitragen. Wohlmeinende Stimmen sprechen bei MONDSCHEINER\, die seit knapp vier Jahren aktiv sind\, gar von ´der österreichischen Antwort auf Element Of Crime´. \n\n\nBoris Fiala: Bass\, Violoncello\, Akkordeon und Festplatte\nHeimo Korak: Schlagzeug\, Hauptkapellmeister\nStefan Laczkovics: Gitarre\nManuel Rubey: Stimme\nAndreas Hamza: Tonmischer und Konzertregie
ATTACH;FMTTYPE=image/jpeg:https://www.local-buehne.at/wp-content/uploads/2019/09/unnamed-file-79.jpeg
CATEGORIES:Archiv
END:VEVENT
END:VCALENDAR