BEGIN:VCALENDAR
VERSION:2.0
PRODID:-//wp-events-plugin.com//6.4.6.4//EN
BEGIN:VEVENT
UID:128@local-buehne.at
DTSTART;VALUE=DATE:20060312
DTEND;VALUE=DATE:20060313
DTSTAMP:20190924T173153Z
URL:https://www.local-buehne.at/events/mino-cinelu-the-flame-and-co-trio/
SUMMARY:MINO CINELU & THE FLAME AND CO TRIO
DESCRIPTION:Like an evidence\, Mino\, Miguel and Paco finally met. Each one with their own way with their suitcases filled with thousands experiences. In Mino suitcase\, there are a lot of rhythm of ten thousands years\, there are prestigious musicals encounters around the world but there is also this attention and this interest of all kind of music and the interest of all prestigious musicians he worked with. In Paco’s suitcase\, the flamenco of ancestors\, of course and his own way. In Miguel’s suitcase\, the night song and its secrets.\n\nEven if the flamenco is a hermetic music\, very few musicians achieve the encounters and Mino Cinelu succeed to bring with him the flamenco with grace.\nAn incredible music\, in a pure sense.
ATTACH;FMTTYPE=image/jpeg:https://www.local-buehne.at/wp-content/uploads/2019/09/unnamed-file-66.jpeg
CATEGORIES:Archiv
LOCATION:Salzhof\, Salzgasse 15\, Freistadt\, Oberösterreich\, 4240\, Freistadt\, Österreich
GEO:48.512165;14.503003
X-APPLE-STRUCTURED-LOCATION;VALUE=URI;X-ADDRESS=Salzgasse 15\, Freistadt\, Oberösterreich\, 4240\, Freistadt\, Österreich;X-APPLE-RADIUS=100;X-TITLE=Salzhof:geo:48.512165;14.503003
END:VEVENT
END:VCALENDAR