BEGIN:VCALENDAR
VERSION:2.0
PRODID:-//wp-events-plugin.com//6.4.6.4//EN
BEGIN:VEVENT
UID:1496@local-buehne.at
DTSTART:20251227T190000Z
DTEND:20251227T190000Z
DTSTAMP:20251022T143124Z
URL:https://www.local-buehne.at/events/michael-bauer/
SUMMARY:MICHAEL BAUER
DESCRIPTION:10-METER-TURM\n\n&nbsp\;\n\nEinen Namen wie „Michael Bauer“ merkt sich niemand. Also sollte der Künstlername auf Social Media einprägsam sein und so wurde es „Heidelbeerhugo“\, unter dem Michael seit 2022 fast 100.000 Follower auf Instagram &amp\; TikTok begeistert. Aber die Leute sagen trotzdem\, wie sie wollen zu ihm: Ribiseldjango zum Beispiel und Michael hört auf alles.\n\nWeil es Hollunderheinzi und seinem Publikum auch live so viel Spaß zusammen macht\, präsentiert er nun sein zweites Kabarettsolo und fragt sich:\n\nWerden Dinge wirklich besser\, nur weil man sie immer wieder macht? Wie oft ist er schon barfuß an seinem Nachtkastl vorbeigegangen\, und trotzdem gibt sein kleiner Zeh dem Holzfurnier regelmäßig ein Begrüßungsbussi. Muss man alles probiert haben? Und wie oft muss man etwas machen\, bis man weiß\, dass man es tatsächlich nicht kann?\n\nSo feiert Brombeerbertl in seinem neuen Programm „10-Meter-Turm“ einen Abend der Beinahe-Erfolge im Leben. Gelacht werden darf mit und über Paprikapeppi und seine Fehleinschätzungen vermeintlich glasklarer Situationen.\n\nBegleiten Sie Gurkengustl zum Familienbesuch bei seiner serbischen Mutter und erleben Sie das legendäre 3-Augen-Gespräch\, das sein Onkel dabei nie auslässt. Beamen Sie sich mit Wacholderwickerl in die 90er\, wo er jahrelang im Reserve-Team seines Herzensfußballklubs ASV Vösendorf gespielt hat. Insgesamt acht Minuten. Sein größter Erfolg: Er blieb verletzungsfrei.\n\nKurkumakurtl wuchs heran\, verhütete so konsequent wie erfolgreich – was seine beiden Kinder bestätigen können – und kennt daher auch sämtliche Herausforderungen des Alltags\, als Familienvater und Mann der besten Frau der Welt.\n\nAuf der Bühne erfüllt Michael Bauer\, wie schon bei seinem Debütprogramm „Was frag ich auch so blöd?“\, Versprechen\, die er nie gegeben hat\, und erfreut somit sein Publikum. Schmeißen Sie sich in die Badepanier und springen Sie mit Heidelbeerhugo vom 10-Meter-Turm! Was wird’s? Köpfler oder Bauchfleck?\n\n&nbsp\;\n\nRegie &amp\; Co-Autor: Paul Klambauer\n\n&nbsp\;\n\n\nMichael Bauer\n\nAufgewachsen im „Edel-Ghetto“ Alt Erlaa im 23. Wiener Gemeindebezirk\, zog es Michael Bauer vor kurzem in die weite Welt hinaus - nach Siebenhirten im 23. Wiener Gemeindebezirk. Dort schreibt er seine Kabarett-Programme\, dreht seine Comedy-Videos für Social Media und nimmt seinen Podcast „Am Boden geblieben“ mit Manuel Thalhammer auf. Nach 20 Jahren im Marketing diverser Großkonzerne\, geht er nun endlich seiner Leidenschaft nach und bringt hauptberuflich Menschen zum Lachen. Sein Mut wurde belohnt\, denn Michael war mit seinem Debütprogramm gleich über 25 Mal im Kabarett Niedermair ausverkauft\, drei Mal im Wiener Stadtsaal zu Gast und begeisterte auch seine Fans in den Bundesländern. 10 Meter Turm ist sein zweites Programm.\n\n&nbsp\;\n\n\n\n\n\n\n\nEINTRITT FREI FÜR LOCAL-BÜHNE MITGLIEDER\nBitte Kartenreservierungsmail bis 19. Dezember an office@local-buehne.at\n\nVorverkauf: local-buehne.at/tickets\nVorverkauf EUR 20\,-\n\nAbendkasse: 24\,- / 22\,-\n\nAbendkasse Preis 1: Vollpreis Abendkassa\; Preis 2: ermäßigt Abendkassa (u. a. für Ö1-\, Arbeiterkammer-\, Kupf-Mitglieder\, Schüler*innen\, Student*innen\, Präsenz- &amp\; Zivildiener\; mit gültigem Ausweis)\; Local-Bühne-Mitglieder: 1 Euro retour auf VVK an Abendkasse\n\n\n\n
ATTACH;FMTTYPE=image/jpeg:https://www.local-buehne.at/wp-content/uploads/2025/06/251227-MBauer-1200.jpg
CATEGORIES:Kabarett
LOCATION:Salzhof Freistadt\, Salzgasse 15\, Freistadt\, Oberösterreich\, 4240\, Österreich
X-APPLE-STRUCTURED-LOCATION;VALUE=URI;X-ADDRESS=Salzgasse 15\, Freistadt\, Oberösterreich\, 4240\, Österreich;X-APPLE-RADIUS=100;X-TITLE=Salzhof Freistadt:geo:0,0
END:VEVENT
END:VCALENDAR