BEGIN:VCALENDAR
VERSION:2.0
PRODID:-//wp-events-plugin.com//6.4.6.4//EN
BEGIN:VEVENT
UID:1377@local-buehne.at
DTSTART:20241213T190000Z
DTEND:20241213T190000Z
DTSTAMP:20240527T184502Z
URL:https://www.local-buehne.at/events/manuel-rubey-simon-schwarz/
SUMMARY:MANUEL RUBEY & SIMON SCHWARZ
DESCRIPTION:DAS RESTAURANT\n\nManuel Rubey und Simon Schwarz haben gemeinsam vier linke Hände. Mindestens. Trotzdem halten die beiden Freunde es für eine großartige Idee\, ein Restaurant zu eröffnen. Simon hat schon einmal in einem Film einen Koch gespielt und Manuel trinkt gerne Wein. Das dürfte reichen\, zwecks Expertise\, denken sie. Das Nobellokal mitten in der Provinz soll alles bisher Dagewesene in den Schatten stellen. Im Lichte betrachtet wirkt es aber eher wie ein Kandidat für "Pfusch am Bau."\n\nAls das Restaurant dann auch noch abbrennt\, riecht es stark nach Brandstiftung. Zumindest für die Dorfpolizistin\, die die Ermittlungen mit den Schauspielstars nutzt\, um mit ihrem True Crime Podcast durchzustarten.\n\nDie Suche nach dem Feuerteufel führt Manuel Rubey und Simon Schwarz zurück in die Vergangenheit\, hinein in ihr Innerstes und zu wesentlichen Fragen\, wie: Sind wir nicht alle irgendwie kleine BrandstifterInnen? In unseren Freundschaften? Im Beruf? In der Beziehung?\nFür die Polizistin ist der Fall sowieso klar: Der Rubey war's\, der hat die Hütte warm abgetragen. Weil die Mörder sind vielleicht immer die Gärtner\, aber die Brandstifter\, das sind immer die Wiener. *\n\n* Wir haben uns dafür entschieden das Sprichwort nicht zu gendern.\n\n&nbsp\;\n\nBuch: Sebastian Huber\, Jürgen Marschal\, Manuel Rubey\, Simon Schwarz\nRegie: Sebastian Huber &amp\; Jürgen Marschal\n\n&nbsp\;\n\n\n\nVorverkauf: www.local-buehne.at/tickets\nVorverkauf: EUR 27 / 30 / 33\nAbendkasse: + EUR 4\n\n\n\n\n\n&nbsp\;
ATTACH;FMTTYPE=image/jpeg:https://www.local-buehne.at/wp-content/uploads/2024/04/241213-RubSch-1200.jpg
CATEGORIES:Kabarett
LOCATION:Salzhof Freistadt\, Salzgasse 15\, Freistadt\, Oberösterreich\, 4240\, Österreich
X-APPLE-STRUCTURED-LOCATION;VALUE=URI;X-ADDRESS=Salzgasse 15\, Freistadt\, Oberösterreich\, 4240\, Österreich;X-APPLE-RADIUS=100;X-TITLE=Salzhof Freistadt:geo:0,0
END:VEVENT
END:VCALENDAR