BEGIN:VCALENDAR
VERSION:2.0
PRODID:-//wp-events-plugin.com//6.4.6.4//EN
BEGIN:VEVENT
UID:440@local-buehne.at
DTSTART;VALUE=DATE:20120311
DTEND;VALUE=DATE:20120312
DTSTAMP:20190924T173232Z
URL:https://www.local-buehne.at/events/mama-africa/
SUMMARY:MAMA AFRICA
DESCRIPTION:Sonntag\, 11. März 2012\, 18 Uhr\, Kino Freistadt\n\n\nMAMA AFRICA\nFrauenfilmnacht der Grünen\, Bezirk Freistadt\n\n\nDie Grünen Bezirk Freistadt veranstalten am Sonntag\, 11.3.2012 den inzwischen schon traditionellen Frauenfilmabend zum Weltfrauentag am 8. März. Um 18 Uhr wird der Film "MAMA AFRICA" in der Local-Bühne Freistadt gezeigt. Der Eintritt ist frei. Bei einem anschließenden Getränk kann man den Abend ausklingen lassen!\n\nZum Film: Die Dokumentation MAMA AFRICA ist ebenso eine Hommage an die Ikona Miriam Makeba wie eine Spurensuche auf ihren Lebenspfaden. Mit reichlich Archivmaterial\, Interviews mit Makebas engstem Umfeld\, unveröffentlichten Bildern und unter genauer Einhaltung der Chronologie zeichnet der finnische Regisseur Mika Kaurismäki (Der Bruder von Aki Kaurismäki) die einzelnen Lebens- und Karrierestationen nach\, woraus sich ein ergreifendes Künstlerinnenporträt ergibt. Unvergesslich auch die bekanntesten Hits der Sängerin. \n\n\nEintritt frei!
ATTACH;FMTTYPE=image/jpeg:https://www.local-buehne.at/wp-content/uploads/2019/09/unnamed-file-396.jpeg
CATEGORIES:Film
LOCATION:Kino Freistadt\, Salzgasse 25\, Freistadt\, Oberösterreich\, 4240\, Freistadt\, Österreich
GEO:48.512609;14.5035787
X-APPLE-STRUCTURED-LOCATION;VALUE=URI;X-ADDRESS=Salzgasse 25\, Freistadt\, Oberösterreich\, 4240\, Freistadt\, Österreich;X-APPLE-RADIUS=100;X-TITLE=Kino Freistadt:geo:48.512609;14.5035787
END:VEVENT
END:VCALENDAR