BEGIN:VCALENDAR
VERSION:2.0
PRODID:-//wp-events-plugin.com//6.4.6.4//EN
BEGIN:VEVENT
UID:519@local-buehne.at
DTSTART;VALUE=DATE:20130223
DTEND;VALUE=DATE:20130224
DTSTAMP:20190924T180629Z
URL:https://www.local-buehne.at/events/listen-to-leena/
SUMMARY:LISTEN TO LEENA
DESCRIPTION:LISTEN TO LEENA\n\nVorurteilsfreie Popmusik mit Jazz- und Songwriting-Einflüssen\; so lässt sich die Musik von Listen To Leena auf eine Weise beschreiben. Der überraschend vielfältige Sound von Listen To Leena ergibt sich durch das genre-vernetzende Zusammenspiel der fünf Nachwuchsmusiker*innen\, die auf eine gemeinsame Studienzeit am Jazz-Institut der Linzer Bruckneruniversität zurückblicken. Die Affinität zum Pop steht in ihrer Musik in keinem Widerspruch zu den sublimen Arrangements in Quintett-Besetzung. Da der Bandname die Aufforderung zum detailverliebten Zuhören in sich trägt\, sollen es die ausdrucksstarken Songs der Sängerin Lucia Karning sein\, die für sich selbst sprechen ... Just listen.\n\nBesetzung:\nLucia Karning – Gesang\, Gitarre\nJakob Mayr – Posaune\, Trompete\nSimon Raab – Piano\nFelipe Ramos – Bass\nDavid Halasz – Schlagzeug\, Percussion\n\n\nEintritt: 10\,- / ermäßigt 8\,- / Local-Bühne Mitglieder 7\,-\nKartenvorverkauf: Kino & Buchhandlung Wurzinger in Freistadt
ATTACH;FMTTYPE=image/jpeg:https://www.local-buehne.at/wp-content/uploads/2019/09/unnamed-file-447.jpeg
CATEGORIES:Konzert
LOCATION:Salzhof\, Salzgasse 15\, Freistadt\, Oberösterreich\, 4240\, Freistadt\, Österreich
GEO:48.512165;14.503003
X-APPLE-STRUCTURED-LOCATION;VALUE=URI;X-ADDRESS=Salzgasse 15\, Freistadt\, Oberösterreich\, 4240\, Freistadt\, Österreich;X-APPLE-RADIUS=100;X-TITLE=Salzhof:geo:48.512165;14.503003
END:VEVENT
END:VCALENDAR