BEGIN:VCALENDAR
VERSION:2.0
PRODID:-//wp-events-plugin.com//6.4.6.4//EN
BEGIN:VEVENT
UID:1598@local-buehne.at
DTSTART:20261113T183000Z
DTEND:20261113T183000Z
DTSTAMP:20260420T194538Z
URL:https://www.local-buehne.at/events/lili-maljic-quartet/
SUMMARY:LILI MALJIC QUARTET
DESCRIPTION:Mit einer tiefen Verbundenheit zur zeitlosen Sprache des Jazz und einer klaren künstlerischen Identität präsentiert Lili Maljic mit ihrem Quartett neben einem abwechslungsreichen Abend auch ihr Debütalbum “The Nearness Of You”. In Zusammenarbeit mit dem renommierten Jazztrompeter Jim Rotondi entwickelte sich neben den Arrangements auch der eigenständige Bandsound.\n\nIm Mittelpunkt des Abends steht die Sängerin Lili Maljic\, die zusammen mit einem herausragenden Quartett aus Klavier\, Bass und Schlagzeug einen Raum für subtiles Zusammenspiel und musikalischen Dialog schafft. Das Ensemble bewegt sich mühelos durch Balladen und Standards aus dem Repertoire des Great American Songbooks\, geleitet von Präzision und einem starken erzählerischen Bogen.\n\nDas Lili Maljic Quartett schafft einen Ausgleich zwischen Tradition und zeitgenössischer Sensibilität und bietet ein Konzerterlebnis\, das von Eleganz\, Tiefe und künstlerischer Integrität geprägt ist.\n\n&nbsp\;\n\nBesetzung\nLili Maljić – vocals \nDena DeRose – piano \nHrvoje Kralj– bass \nVladimir Kostadinović – drums\n\nlilimaemusic.com\n\n&nbsp\;\n\n&nbsp\;\n\n&nbsp\;\n\n\n\n\n\n\n\nVorverkauf: www.local-buehne.at/tickets\nPlatzkarten EUR 23 / 26 / 29\nAbendkasse: +4\nermäßigt Abendkassa (u. a. für Ö1-\, Arbeiterkammer-\, Kupf-Mitglieder\, Schüler*innen\, Student*innen\, Präsenz- &amp\; Zivildiener\; mit gültigem Ausweis)\; Local-Bühne-Mitglieder: 1 Euro retour auf VVK an Abendkasse\n\n\n\n\n\n&nbsp\;
ATTACH;FMTTYPE=image/jpeg:https://www.local-buehne.at/wp-content/uploads/2026/04/261113-Lili-1200.jpg
CATEGORIES:Konzert
LOCATION:Salzhof\, Salzgasse 15\, Freistadt\, Oberösterreich\, 4240\, Freistadt\, Österreich
GEO:48.512165;14.503003
X-APPLE-STRUCTURED-LOCATION;VALUE=URI;X-ADDRESS=Salzgasse 15\, Freistadt\, Oberösterreich\, 4240\, Freistadt\, Österreich;X-APPLE-RADIUS=100;X-TITLE=Salzhof:geo:48.512165;14.503003
END:VEVENT
END:VCALENDAR