BEGIN:VCALENDAR
VERSION:2.0
PRODID:-//wp-events-plugin.com//6.4.6.4//EN
BEGIN:VEVENT
UID:1567@local-buehne.at
DTSTART:20260429T173000Z
DTEND:20260429T173000Z
DTSTAMP:20260310T092101Z
URL:https://www.local-buehne.at/events/lainer-aigner-5/
SUMMARY:LAINER & AIGNER
DESCRIPTION:z’fleiß katholisch\nKabarett über Religion und Kirche kann einen Heidenspaß machen. Das haben Lainer &amp\; Aigner mit „Ich bin der Weinstock\, ihr seid die Flaschen“ und „Aktion Schaf“ längst bewiesen. Sie haben damit nicht nur Kabarettbühnen\, sondern auch Pfarrsäle im Sturm erobert. Auch so mancher geistliche Herr (mit oder ohne Freundin) hatte seine Freude daran.\n\nWarum jetzt\, nach zwei „profanen Programmen“\, noch ein drittes zum Thema Religion? Einmal\, weil dank des atemberaubenden Reformtempos der Kirche die meisten Anliegen frisch sind wie am ersten Tag. Und zweitens\, weil Lainer &amp\; Aigner das Christentum weder Faschisten noch blassen Klerikalen überlassen wollen.\n\nWobei es ihnen vor allem um die Praxis geht: Ob jemand an einen Gott glaubt oder an viele oder an keinen\, - wichtig ist das Bemühen\, ein freundlicher\, hilfsbereiter Mensch zu sein. Dem armen Hund ist es egal\, ob der Retter in der Not seinen Gott Allah oder Jahwe\, Huitzilopochtli oder gar nicht nennt. Hauptsache\, er hilft.\n\nDas Problem sind eher die\, die ständig fromme Sprüche absondern\, um sich selbst zu erhöhen. So wie der Schwarm evangelikaler\, stinkreicher Fernsehprediger\, die vor laufenden Kameras verzückt die Augen verdrehen\, um dem Horrorclown im Weißen Haus die Hand aufzulegen.\n\nDa bleiben Lainer &amp\; Aigner lieber ihrer alten\, fehlerhaften Kirche treu\, der sie es hoch anrechnen\, dass sie es mit ihnen auch schon so lange ausgehalten hat.\n\nUnd so ist „z’fleiß katholisch“ ein manchmal „goscherter“\, meist aber liebevoller Rückblick auf eine homogene katholische Kultur geworden\, die es so heute nicht mehr gibt. Eine Art „Best of Kirchenkabarett“ mit alten und neuen Szenen und vielen Liedern\, ein Abend voller himmlischer Pointen\, sündhafter Satire und ketzerischer Komik.\n\nZugleich aber auch ein Appell zum mutigen Aufbruch\, weil man etwas Besseres als die Liebe noch nicht erfunden hat. Das Sakrament des Humors kann dabei eine große Hilfe sein\, - immer auf dem Weg in die Himmelsrichtung!\n\n&nbsp\;\n\n&nbsp\;\n\n\n\nVorverkauf: www.local-buehne.at/tickets\nVorverkauf: EUR 33 / 29 / 25\nAbendkasse: + EUR 4\n\n\n\n\n\n&nbsp\;
ATTACH;FMTTYPE=image/jpeg:https://www.local-buehne.at/wp-content/uploads/2025/10/260319-Lainer-Aigner-1200.jpg
CATEGORIES:Kabarett
LOCATION:Salzhof\, Salzgasse 15\, Freistadt\, Oberösterreich\, 4240\, Freistadt\, Österreich
GEO:48.512165;14.503003
X-APPLE-STRUCTURED-LOCATION;VALUE=URI;X-ADDRESS=Salzgasse 15\, Freistadt\, Oberösterreich\, 4240\, Freistadt\, Österreich;X-APPLE-RADIUS=100;X-TITLE=Salzhof:geo:48.512165;14.503003
END:VEVENT
END:VCALENDAR