BEGIN:VCALENDAR
VERSION:2.0
PRODID:-//wp-events-plugin.com//6.4.6.4//EN
BEGIN:VEVENT
UID:391@local-buehne.at
DTSTART;VALUE=DATE:20110325
DTEND;VALUE=DATE:20110330
DTSTAMP:20190924T173231Z
URL:https://www.local-buehne.at/events/kicken-im-kino-2/
SUMMARY:KICKEN IM KINO
DESCRIPTION:Die EM Qualifikationsspiele der österreichischen Fußball-Nationalmannschaft LIVE im Kino Freistadt\n\nFreitag 25. März\, 20:30 Uhr\nÖSTERREICH vs BELGIEN\n*live* aus Wien\n\nDienstag 29. März\, 19:30 Uhr\nÖSTERREICH vs TÜRKEI\n*live* aus Istanbul\n\nkommen\, anfeuern und hoffen auf zwei wunder \;-)
ATTACH;FMTTYPE=image/jpeg:https://www.local-buehne.at/wp-content/uploads/2019/09/unnamed-file-339.jpeg
CATEGORIES:Archiv
LOCATION:Kino Freistadt\, Salzgasse 25\, Freistadt\, Oberösterreich\, 4240\, Freistadt\, Österreich
GEO:48.512609;14.5035787
X-APPLE-STRUCTURED-LOCATION;VALUE=URI;X-ADDRESS=Salzgasse 25\, Freistadt\, Oberösterreich\, 4240\, Freistadt\, Österreich;X-APPLE-RADIUS=100;X-TITLE=Kino Freistadt:geo:48.512609;14.5035787
END:VEVENT
END:VCALENDAR