BEGIN:VCALENDAR
VERSION:2.0
PRODID:-//wp-events-plugin.com//6.4.6.4//EN
BEGIN:VEVENT
UID:251@local-buehne.at
DTSTART;VALUE=DATE:20080404
DTEND;VALUE=DATE:20080405
DTSTAMP:20190924T173155Z
URL:https://www.local-buehne.at/events/karlheinz-miklin-trio/
SUMMARY:Karlheinz Miklin Trio
DESCRIPTION:Der legendäre Walter Richard Langer bezeichnete es als eine der eigenständigsten und wichtigsten österreichischen Gruppen aller Zeiten\, die „Salzburger Nachrichten“ beschreiben es als Aushängeschild des österreichischen Jazz\, für den „Standard“ ist es „Österreichs Klassiker“\, der „Daily Telegraph“ spricht von seiner erfrischenden musikalischen Offenheit...\n\nDas Trio wurde 1978 mit Ewald Oberleitner am Bass und Brüning von Alten am Schlagzeug gegründet. Trotz eines fehlenden Pianisten bzw. Gitarristen\, zeigte die Probenarbeit\, dass ein neuer\, eigenständiger Sound entstand\, der von Publikum und Presse sehr bald große Anerkennung erhielt. Nach einem erfolgreichen internationalen Debut beim Jazzfestival Belgrad 1981 (auf einer Bühne unter anderem mit Art Blakey und Dizzy Gillespie)\, erfolgte auch der Durchbruch in Österreich bei Festivals wie Wiesen\, Saalfelden\, Jazzfest Wien\, Bregenzer Festspiele\, Steirischer Herbst.\n\nAuch im 30. Jahr ihres Bestehens zeichnet das Trio sich durch unverbrauchte Frische und nicht erlahmende Suche nach neuen Ausdrucksformen aus. Nach weltweiten Auftritten\, nach Gastspielen bei den renommiertesten Jazzfestivals\, muss das Karlheinz Miklin Trio nichts mehr beweisen\, und so glänzt die Band mit Spielfreude auf höchstem Niveau.\n\nKarlheinz Miklin: sax\, fl\, bcl\nEwald Oberleitner: b\nKarlheinz Miklin jr.:\n\nEintritt: €13\,00 / € 11\,00 / €10\,00\nKartenreservierung unter 07942 / 777 33 oder office@local-buehne.at
ATTACH;FMTTYPE=image/jpeg:https://www.local-buehne.at/wp-content/uploads/2019/09/unnamed-file-181.jpeg
CATEGORIES:Archiv
END:VEVENT
END:VCALENDAR