BEGIN:VCALENDAR
VERSION:2.0
PRODID:-//wp-events-plugin.com//6.4.6.4//EN
BEGIN:VEVENT
UID:1514@local-buehne.at
DTSTART:20251105T190000Z
DTEND:20251105T190000Z
DTSTAMP:20250926T132455Z
URL:https://www.local-buehne.at/events/karl-markus-gauss-schlendern-ist-mein-metier/
SUMMARY:KARL-MARKUS GAUSS: SCHLENDERN IST MEIN METIER
DESCRIPTION:Karl-Markus Gauß und Regisseur Johannes Holzhausen stellen den Film in Freistadt vor. Mit Lesung von Karl-Markus Gauß\n\nKARL-MARKUS GAUSS: SCHLENDERN IST MEIN METIER\nAT 2025\, R: Johannes Holzhausen\n\n\n\n\nhttps://youtu.be/XwQcWA1uhUk\n\nDer Regisseur Johannes Holzhausen porträtiert humorvoll und unkonventionell den renommierten österreichischen Schriftsteller Karl-Markus Gauß. Begleitet von der Kamera öffnet Gauß die Türen seines Salzburger Zuhauses und begibt sich auf Reisen an die Ränder Europas\, wo die Wunden der Geschichte noch spürbar sind.\n\n\n\n\n\n\n\n\n\n\n\nTickets: www.kino-freistadt.at\n\n\n\n
ATTACH;FMTTYPE=image/jpeg:https://www.local-buehne.at/wp-content/uploads/2025/08/251105-kmgauss-1200.jpg
CATEGORIES:Film,Literatur
LOCATION:Kino Freistadt\, Salzgasse 25\, Freistadt\, Oberösterreich\, 4240\, Freistadt\, Österreich
GEO:48.512609;14.5035787
X-APPLE-STRUCTURED-LOCATION;VALUE=URI;X-ADDRESS=Salzgasse 25\, Freistadt\, Oberösterreich\, 4240\, Freistadt\, Österreich;X-APPLE-RADIUS=100;X-TITLE=Kino Freistadt:geo:48.512609;14.5035787
END:VEVENT
END:VCALENDAR