BEGIN:VCALENDAR
VERSION:2.0
PRODID:-//wp-events-plugin.com//6.4.6.4//EN
BEGIN:VEVENT
UID:532@local-buehne.at
DTSTART;VALUE=DATE:20130503
DTEND;VALUE=DATE:20130504
DTSTAMP:20190924T180629Z
URL:https://www.local-buehne.at/events/josef-hader-3/
SUMMARY:JOSEF HADER
DESCRIPTION:HADER SPIELT HADER\n\nAus den letzten fünf Programmen\, die durchwegs geschlossene Theaterabende sind\, hat Josef Hader Teile herausgenommen und zu kleinen Monologen geformt. Manches kommt einem deswegen so bekannt vor an diesem Abend\, von früher\, von irgendwo. Und er gibt auch zu\, dass er gestohlen hat. Doch kommt es darauf an? Bei dem guten Verhältnis von Täter und Opfer ...\n\nAus der Fülle der Figuren entsteht eine Geschichte\, die eines für sich beanspruchen kann: ein neues Hader-­Programm zu sein. Ein echtes.\n\n\n\nEintritt: \n€ 21\,-\nermäßigt: € 19\,-\nLocal-Bühne Mitglieder: € 18\,-\nJugendliche unter 21: € 14\,-\n(kontingentierte Jugendkarten im Kino Freistadt erhältlich)\n\nKartenvorverkauf: Kino & Buchhandlung Wurzinger in Freistadt\, ÖTicket (Raibas\, Sparkassen ...)\n\nLink: Tickets online kaufen
ATTACH;FMTTYPE=image/jpeg:https://www.local-buehne.at/wp-content/uploads/2019/09/unnamed-file-449.jpeg
CATEGORIES:Kabarett
END:VEVENT
END:VCALENDAR