BEGIN:VCALENDAR
VERSION:2.0
PRODID:-//wp-events-plugin.com//6.4.6.4//EN
BEGIN:VEVENT
UID:354@local-buehne.at
DTSTART;VALUE=DATE:20100716
DTEND;VALUE=DATE:20100718
DTSTAMP:20190924T173230Z
URL:https://www.local-buehne.at/events/jazz-weekend/
SUMMARY:JAZZ WEEKEND
DESCRIPTION:Jazz Weekend: 10 Jahre Jazz Alive\n\nFreitag\, 16. Juli\, 19:30 Uhr\n\nPaier/Preinfalk Duo\n\nJazz bedeutet für Klaus Paier und Gerald Preinfalk vitale Improvisation und vor allem die Unabhängigkeit\, sich ohne Zwang mit Stilen und Klangfarben zu beschäftigen – gleich welcher Couleur. Die entstehenden stilistischen Überschneidungen sind eine Fusion der besonderen Art. Die Folklore der Alpenvölker\, die stolze Melancholie der Rio de la Plata Region und der überbordende Spielwitz des Balkans verschmelzen zu gemeinsam Neuem.\n\nUpper Austrian Jazz Orchestra\n\nDas neue Programm „Song Song“ ist ein weiters Project des UAJO\, welches mit literarischen Texten arbeitet. Österreichische Autoren haben dazu Texte geschrieben\, welche wieder in bewährter Manier von MusikerInnen des Orchesters musikalisch konzeptioniert\, bearbeitet\, vertont\, arrangiert ... wurden. Besonders freuen darf man sich auf die Stimmen von Ali Gaggl (erste Freistädter Jazznight) und Tini Kainrath.\n\nSamstag\, 17. Juli\, 19:30 Uhr\n\nWiederhofer Trio\n\nDas Konzept des Trios Martin\, Markus und Heimo Wiederhofer ist durch den Einsatz ausschließlich akustischer Instrumente einen kammermusikalischen Klang zu generieren\, der dennoch alle Genres des modernen Jazz zulässt. Gleichzeitig werden aber auch in eigenen Kompositionen und Bearbeitungen alle technischen Möglichkeiten moderner akustischer Instrumente ausgenützt\, um zu zeigen\, dass deren Ausdrucksmöglichkeiten mit Klassik\, Blues und Folklore nicht erschöpft sind.\n\nAl Foster Quartet\n\n„Ich habe Jack de Johnette am Schlagzeug durch Al Foster ersetzt (...). Er hat mich umgehauen\, solch ein Groove\, genau danach hatte ich gesucht. Al sorgte dafür\, dass jeder frei spielen konnte\, während er den Groove hielt. Al hatte all das\, was ich bei einem Drummer gesucht hatte.“ - Miles Davis\nAl Foster ist mit Miles Davis zu Weltruhm gelangt. Im Laufe seiner Karriere spielte er natürlich auch mit anderen herausragenden Jazzstars wie Sonny Rollins\, Cannonball Adderley\, Thelonious Monk\, Freddie Hubbard und Herbie Hancock\, um nur einige wenige zu nennen. Die Musik des Quartets ist einfach umwerfend: virtuos\, brilliant und lebendig – mit einem Wort: Weltniveau!\n\nEintritt:\nTageskarte: 18\,- / ermäßigt 16\,- / Local-Bühne Mitglieder 15\,-\nWeekend-Karte: 25\,- / ermäßigt 23\,- / Local-Bühne Mitglieder 22\,-\n\nKartenreservierung unter 07942 777 33 oder office@local-buehne.at\nKartenvorverkauf: Kino & Buchhandlung Wurzinger\, Freistadt
ATTACH;FMTTYPE=image/jpeg:https://www.local-buehne.at/wp-content/uploads/2019/09/unnamed-file-298.jpeg
CATEGORIES:Archiv
END:VEVENT
END:VCALENDAR