BEGIN:VCALENDAR
VERSION:2.0
PRODID:-//wp-events-plugin.com//6.4.6.4//EN
BEGIN:VEVENT
UID:96@local-buehne.at
DTSTART;VALUE=DATE:20050806
DTEND;VALUE=DATE:20050807
DTSTAMP:20190924T173153Z
URL:https://www.local-buehne.at/events/jazz-night/
SUMMARY:Jazz Night
DESCRIPTION:all@once\nDer Keyboarder und Pianist Adam Holzman ist einer der innovativsten und aufregendsten Musiker der Gegenwart.\nAndy McKee ist für seinen dynamischen und erfinderischen Stil am akustischen Baß weithin bekannt. Sein Wirken dehnt sich von den Vereinigten Staaten über Europa bis in alle Jazzecken der Welt aus.\nDie stilistisch sehr vielseitigen Arbeiten von Franz Hackl finden Verwendung ua. für Orchester\, Chöre oder Multi-Media-Projekte.\n\nBesetzung:\nMino Cinelu\, dr | www.minocinelu.com\nAdam Holzman\, p | www.adamholzman.com \nFranz Hackl\, t | www.dackl.com\nAndy McKee\, b | www.andymckee.info\n\nIrida\nDie Band Irida fasziniert einerseits durch ihre karge musikalische Besetzung (bass\, keyboards\, drums) in Kombination mit hippen\, souligen Vocalarrangements. Deutsche Texte werden mit verschiedenen ethnischen Richtungen verbunden\; mal ins Arabische schweifend\, mal mit scharfen Latin-Salsa-grooves\, dann wieder mit jazzigem Soul - eine Reise durch die abwechslungsreichen Breiten des Musikplaneten.\nBesetzung:\nVolker Wadauer\nShayan Fathi\nBernhard Eder\nLia Weller\nKatharina Wagner\nwww.irida.at
ATTACH;FMTTYPE=image/jpeg:https://www.local-buehne.at/wp-content/uploads/2019/09/unnamed-file-19.jpeg
CATEGORIES:Archiv
END:VEVENT
END:VCALENDAR