BEGIN:VCALENDAR
VERSION:2.0
PRODID:-//wp-events-plugin.com//6.4.6.4//EN
BEGIN:VEVENT
UID:143@local-buehne.at
DTSTART;VALUE=DATE:20060701
DTEND;VALUE=DATE:20060702
DTSTAMP:20190924T173153Z
URL:https://www.local-buehne.at/events/irish-summer-night/
SUMMARY:Irish Summer Night
DESCRIPTION:Sie gehören derzeit zu den begehrtesten irischen Bands und verstehen es Tradition\, Moderne und  Selbstkomponiertes zu einem aufregenden Stil zu verweben.\n\nGrada erinnern auf Grund ihrer Dynamik ein wenig an Lunasa\, lassen jedoch auch jazzige Einflüsse erkennen und sie haben mit Anne Marie O`Mally eine sehr gute Sängerin\, die auch hervorragend die bodhran bedient. Das Riesentalent Alan Doherty (flute/whistles/guitar) spielte als musikalischer Direktor zum soundtrack von "Herr der Ringe” eine wichtige Rolle. Der Fiddler Brendan O`Sullivan war früher mit Reamonn auf Tour\, bevor er sich Grada anschloß. Der jazzige touch in der Band stammt vom Neuseeländer Andrew Laking\, der für Grada sein surfboard mit dem double bass eintauschte. Sänger und Gitarrist Gerry Paul wurde nach seiner Rückkehr von Neuseeland ein Fixpunkt der Dubliner Szene um nun bei Grada seine neue Aufgabe zu übernehmen.\n\n"Gráda are the hottest new traditional band around" - The Event Guide\n\nwww.weltenklang.at
ATTACH;FMTTYPE=image/jpeg:https://www.local-buehne.at/wp-content/uploads/2019/09/unnamed-file-77.jpeg
CATEGORIES:Archiv
END:VEVENT
END:VCALENDAR