BEGIN:VCALENDAR
VERSION:2.0
PRODID:-//wp-events-plugin.com//6.4.6.4//EN
BEGIN:VEVENT
UID:112@local-buehne.at
DTSTART;VALUE=DATE:20051202
DTEND;VALUE=DATE:20051203
DTSTAMP:20190924T173153Z
URL:https://www.local-buehne.at/events/irish-christmas-festival/
SUMMARY:Irish Christmas Festival
DESCRIPTION:Das Irish Christmas Festival hat sich in den letzten Jahren mehr als etabliert und bietet Musik allerhöchster Qualität\, abseits von Schunkel- und Mitgrölstimmung. Das diesjährige Festival besticht durch ein line-up mit einerseits legendären KünstlerInnen und andererseits jungen Top-MusikerInnen aus Irland.\n\nBeoga\nWieder eine neue Band\, diesmal erneut aus Nordirland. Zum Irish Christmas Festival 2005 kommt das Ensemble mit der phantastischen Fiddlerin/Sängerin Niamh Dunne nach Österreich! \nDie Kritiker bewerten das Ensemble seit einigen Monaten mit Bestnoten.\nDas rennomierte englische Magazin „folk roots” hat ihre CD „a lovely madness” zu den besten CDs 2004 gelistet\, einige tracks von der CD werden für den derzeit abgedrehten Film „The Emerald Diamond” (mit Paris Hilton und Angelina Jolie!) verwendet\, und die angesehene dance-company „Ginger Step Dance Co” hat die CD als Anlaß genommen\, um eine neue irische Step-Tanz-show mit dem Namen „Celtic Breeze” zu choreographieren!\n\nThe Red Hat Band\nDie RED HAT BAND ist derzeit eines der innovativsten Projekte aus Irland und setzt sich aus den besten MusikerInnen verschiedener junger Top-Bands wie Calico\, Flook usw. zusammen. Deirdre Moynihan (vocals\, fiddle) von Calico\, Aine Whelan (vocals) von Joyful Mysteries & Brian Kennedy\, Diarmaid Moynihan (uillean pipes\, whistles) von Calico\, Martin Leahy (percussion) von North Cregg\, Donnacha Moynihan (guitar) von Calico & Celtic Legends.\n\nwww.weltenklang.at\n\nKartenvorverkauf in allen oö Raiffeisenbanken!
ATTACH;FMTTYPE=image/jpeg:https://www.local-buehne.at/wp-content/uploads/2019/09/unnamed-file-45.jpeg
CATEGORIES:Konzert
LOCATION:Salzhof\, Salzgasse 15\, Freistadt\, Oberösterreich\, 4240\, Freistadt\, Österreich
GEO:48.512165;14.503003
X-APPLE-STRUCTURED-LOCATION;VALUE=URI;X-ADDRESS=Salzgasse 15\, Freistadt\, Oberösterreich\, 4240\, Freistadt\, Österreich;X-APPLE-RADIUS=100;X-TITLE=Salzhof:geo:48.512165;14.503003
END:VEVENT
END:VCALENDAR