BEGIN:VCALENDAR
VERSION:2.0
PRODID:-//wp-events-plugin.com//6.4.6.4//EN
BEGIN:VEVENT
UID:1379@local-buehne.at
DTSTART;VALUE=DATE:20240508
DTEND;VALUE=DATE:20240514
DTSTAMP:20240527T184751Z
URL:https://www.local-buehne.at/events/heimatfilm-special-2/
SUMMARY:HEIMATFILM-SPECIAL
DESCRIPTION:&nbsp\;\n\nHeimatfilmfestival-Special\n\nMi. 8. bis Mo. 13. Mai\, Kino Freistadt\n\nZum Verkürzen der Wartezeit bis zum nächsten Festival DER NEUE HEIMATFILM\, das 2024 von 21. - 25. August zum 37. mal stattfinden wird\, laden Local-Bühne und Kino Freistadt zum Spezialprogramm aus neun Filmen\, die auch am Filmfestival laufen könnten. Filme\, die alle dem Genre „Heimatfilm“\, wie wir es verstehen\, zuordenbar sind.\n\nAuf Anfrage organisieren wir gern ein Hotelzimmer in Freistadt\, für Gäste\, die unser Special mit einem Freistadt-Aufenthalt zum kleinen "Mini-Filmfestival" machen wollen.\n\nFilme in Originalfassung (mit Untertiteln).\n▲▼▲▼▲▼▲▼▲▼▲▼▲\nHeimatfilm-Special-Pass\n5 Filme = EUR 30\nan der Kinokasse erhältlich\n▼▲▼▲▼▲▼▲▼▲▼▲▼\nMi. 8. Mai\n20.00 • The Burdened\n\nDo. 9. Mai\n16.15 • Irdische Verse\n17.50 • Von Vätern und Müttern\n20.00 • Ruäch - Eine Reise ins jenische Europa\n\nFr. 10. Mai\n15.30 • Ruäch - Eine Reise ins jenische Europa\n17.45 • Evil Does Not Exist\n20.00 • Besuch im Bubenland - Premiere mit Regisseurin Katrin Schlösser\n\nSa. 11. Mai\n14.00 • Besuch im Bubenland\n16.00 • Die unendliche Erinnerung\n18.00 • Irdische Verse\n20.00 • Emile – Erinnerungen eines Vertriebenen\n\nSo. 12. Mai\n14.00 • Emile – Erinnerungen eines Vertriebenen\n15.45 • Evil Does Not Exist\n18.00 • Die unendliche Erinnerung\n20.00 • The Burdened\n\nMo. 13. Mai\n18.00 • Von Vätern und Müttern\n20.00 • Kraft der Utopie - Leben mit Le Corbusier in Chandigarh - im Anschluss Gespräch mit Freistädter Architekten\n\n&nbsp\;\n\n\n\nThe Burdened - Al Murhaqoon - المرهقون\nSpielfilm\, YE 2023\, 91 min\, R: Amr Gamal\, D: Khaled Hamdan\, Abeer Mohammed\, Samah Alamrani u.a.\nIIsra'a und ihr Mann Ahmed leben mit ihren drei Kindern in Aden\, einer alten Hafenstadt im Süden des Jemen. Der Alltag der Familie ist vom Bürgerkrieg geprägt. Isra'a's unerwartete Schwangerschaft stürzt das Paar in eine Krise.\n\nhttps://youtu.be/_YrOQZXWZJ4\n\nIrdische Verse - Ayeh haye zamini - آیه‌های زمینی\nSpielfilm\, IR 2024\, 77 min\, R: Ali Asgari\, Alireza Khatami\, D: Majid Salehi\, Gohar Kheyrandish\, Farzin Mohades u.a.\nMit scharfer Zunge und sarkastischem Witz erzählt das iranische Regie-Duo Alireza Khatami und Ali Asgari von neun Menschen\, die zum Opfer der banalen Bosheit der Beamten werden. Ein gerade in seiner formalästhetisch radikalen Einfachheit aufwühlender\, schwarzhumoriger Akt der Revolution.\n\nhttps://youtu.be/6rqwkn7ssmI\n\nVon Vätern und Müttern - Fædre &amp\; mødre\nSpielfilm\, NO 2022\, 97 min\, R: Paprika Steen\, D: Nikolaj Lie Kaas Amanda Collin Martin Greis-Rosenthal u.a.\nNachdem ihre Tochter die Schule gewechselt hat\, müssen Piv und Ulrik direkt an der berühmten jährlichen Klassenfahrt mit Kindern und Eltern teilnehmen\, bei der sie um einen Platz in der Elterngruppe der neuen Klasse kämpfen. Eine witzige und intelligente Karikatur der heutigen Elterngeneration\, amüsant Kämpfe zwischen Eltern\, Lehrer*innen und Direktor*innen schildert.\n\nhttps://youtu.be/f4sBpzAKHLM\n\nRuäch - Eine Reise ins jenische Europa\nDokumentarfilm\, CH 2022\, 118 min\, R: Andreas Müller\, Simon Guy Fässler\, Marcel Bächtiger\nDas Porträt einer verborgenen Kultur\, geprägt von Freiheitsdrang\, gezeichnet von alten Wunden. Ein magischer Trip durch das jenische Europa.\n\nhttps://youtu.be/sBasb_Bet8s\n\nEvil Does Not Exist - 悪は存在しない\nSpielfilm\, JP 2023\, 106 min\, R: Ryusuke Hamaguchi\, D: Hitoshi Omika\, Ryo Nishikawa\, Ryuji Kosaka u.a.\nTakumi und seine Tochter Hana führen ein bescheidenes Leben im Einklang mit der Natur im Dorf Mizubiki in der Nähe von Tokio. Der Frieden wird allerdings gestört\, als ein Unternehmen aus Tokio Pläne zum Bau einer Glamping-Anlage in unmittelbarer Nähe vorstellt. Großer Preis der Jury und FIRPRESCI Preis bei den Internationalen Filmfestspielen Venedig 2023.\n\nhttps://youtu.be/pXdVUx_lKRw\n\nBesuch im Bubenland\nDokumentarfilm\, AT 2024\, 92 min\, R: Katrin Schlösser\nIn Form einer filmischen Feldforschung sammelt die Filmemacherin im Südburgenland Begegnungen und Gespräche mit Männern\, erfährt von individuellen Lebenswegen\, vom Alltag und seinen Lasten\, von Träumen. Wortkarg und lakonisch teilen die Männer letztendlich freimütig ihre Gedanken und Gefühle.\n\nhttps://youtu.be/ZRdzT2J4gNM\n\nDie unendliche Erinnerung - La memoria infinita\nDokumentarfilm\, CL 2023\, 85 min\, R: Paulina Urrutia\, Augusto Góngora\nPaulina und Augusto teilen seit 25 Jahren ihr Leben und ihre Passion: die Kunst der Worte. Als 2014 bei Augusto Alzheimer festgestellt wird\, bedeutet das einen großen Einschnitt in das Leben der beiden.\n\nhttps://youtu.be/20JdDXh3XTU\n\nKraft der Utopie - Leben mit Le Corbusier in Chandigarh\nDokumentarfilm\, CH 2023\, 84 min\, R: Karin Bucher\, Thomas Karrer\nVor 70 Jahren vollendete der Architekt Le Corbusier mit der indischen Planstadt Chandigarh sein Lebenswerk. Mit all ihren Licht- und Schattenseiten gilt die Millionenstadt als umstrittenes Gesamtkunstwerk. Der Dokumentarfilm begleitet vier indische Kulturschaffende aus Chandigarh und reflektiert mit ihnen diese Utopie der Moderne.\n\nhttps://youtu.be/heHETzatoIw\n\nEmile – Erinnerungen eines Vertriebenen\nDokumentarfilm\, AT 2023\, 86 min\, R: Rainer Frimmel\nRainer Frimmels kontrastreiches\, Porträt von Emile Zuckerkandl bleibt stets ganz nah an seinem charismatischen und geistreichen Protagonisten und dessen lebhaften Erzählungen.\n\n&nbsp\;\n\n&nbsp\;\n\n\n\nTickets: www.kino-freistadt.at\n\n\n\n\n\n&nbsp\;
ATTACH;FMTTYPE=image/jpeg:https://www.local-buehne.at/wp-content/uploads/2024/04/240513-Mini-HFF-FB-VA-neu.jpg
CATEGORIES:Film
LOCATION:Kino Freistadt\, Salzgasse\, 25\, Freistadt\, 4240\, Freistadt\, Österreich
X-APPLE-STRUCTURED-LOCATION;VALUE=URI;X-ADDRESS=Salzgasse\, 25\, Freistadt\, 4240\, Freistadt\, Österreich;X-APPLE-RADIUS=100;X-TITLE=Kino Freistadt:geo:0,0
END:VEVENT
END:VCALENDAR