BEGIN:VCALENDAR
VERSION:2.0
PRODID:-//wp-events-plugin.com//6.4.6.4//EN
BEGIN:VEVENT
UID:1368@local-buehne.at
DTSTART:20241207T190000Z
DTEND:20241207T190000Z
DTSTAMP:20240606T094659Z
URL:https://www.local-buehne.at/events/gesangskapelle-hermann-2/
SUMMARY:GESANGSKAPELLE HERMANN
DESCRIPTION:&nbsp\;\n\ndas neue Programm auf Tour\n\n\nSehr Sogar\n\nSie halten die Gesangskapelle Hermann für Koryphäen der a cappella Mundart-Musik\, gar für die schönste Boyband der Welt? Sie verbringen schlaflose Nächte vor lauter Vorfreude auf eine frisch gebackene Bühnenshow\, auf ein Feuerwerk der Superlative? Sie haben unbändige Lust auf neue Musik der fünf lustigen Barden? Und das lange Warten seit dem letzten Tonträger war eine einzige Qual für Sie?\n\nDie Antwort auf all diese Fragen lautet „Sehr sogar“\n\n[embed]https://youtu.be/EdZ9YW7cjwM[/embed]\n\nLink: gesangskapellehermann.at\n\n&nbsp\;\n\n\n\n\n\n\n\nVorverkauf: www.local-buehne.at/tickets\nVorverkauf EUR 26\n\nAbendkasse: 30\,- / 28\,-\n\nAbendkasse Preis 1: Vollpreis Abendkassa\; Preis 2: ermäßigt Abendkassa (u. a. für Ö1-\, Arbeiterkammer-\, Kupf-Mitglieder\, Schüler*innen\, Student*innen\, Präsenz- &amp\; Zivildiener\; mit gültigem Ausweis)\; Local-Bühne-Mitglieder: 1 Euro retour auf VVK an Abendkasse\n\n\n\n
ATTACH;FMTTYPE=image/jpeg:https://www.local-buehne.at/wp-content/uploads/2024/03/241207-GK-Hermann-1-1200.jpg
CATEGORIES:Konzert
LOCATION:Salzhof Freistadt\, Salzgasse 15\, Freistadt\, Oberösterreich\, 4240\, Österreich
X-APPLE-STRUCTURED-LOCATION;VALUE=URI;X-ADDRESS=Salzgasse 15\, Freistadt\, Oberösterreich\, 4240\, Österreich;X-APPLE-RADIUS=100;X-TITLE=Salzhof Freistadt:geo:0,0
END:VEVENT
END:VCALENDAR