BEGIN:VCALENDAR
VERSION:2.0
PRODID:-//wp-events-plugin.com//6.4.6.4//EN
BEGIN:VEVENT
UID:1511@local-buehne.at
DTSTART:20251107T190000Z
DTEND:20251107T190000Z
DTSTAMP:20251022T142416Z
URL:https://www.local-buehne.at/events/gertraud-klemm-3/
SUMMARY:GERTRAUD KLEMM
DESCRIPTION:im Rahmen der Literaturtage Freistadt\n\nin Zusammenarbeit mit der Brigitte-Schwaiger-Gesellschaft\n\n&nbsp\;\n\nABSCHIED VOM PHALLOZÄN\n\nDer Showdown des Anthropozäns scheint nah: Vor der Kulisse aus Klimakrise und Kriegen droht eine Handvoll machttrunkener und skrupelloser Politiker im Verein mit rücksichtslosen Techmilliardären die Welt gegen die Wand zu fahren. Was all diese Akteure von nie dagewesener globaler Wirkmacht gemein haben? Es sind ausnahmslos Männer. Ignoriert man diesen weißen Elefanten im Raum\, hilft auch aller Aktivismus nicht\, denn: Nicht der Mensch hat die Erde im Würgegriff\, sondern das Patriarchat! Es zu überwinden hieße\, den gröbsten globalen Problemen gebündelt entgegenzutreten. Sklaverei\, Rassismus\, Kolonialismus und Imperialismus schienen bis vor Kurzem noch »alternativlos«\, doch sie konnten weitestgehend aufgearbeitet werden\, weil sie entlarvt wurden: als Missstände\, die der Spezies Mensch unwürdig sind. Warum sollte das mit dem Patriarchat nicht auch gelingen?\n\nGertraud Klemm nimmt sich in ihrem leidenschaftlichen Essay matriarchale Gesellschaften aus Vergangenheit und Gegenwart zum Vorbild für ihre Ankündigung des Abschieds vom Phallozän – ein kraftvolles Gedankenspiel über matriarchale Inspiration\, patriarchale Dekonstruktion und die Notwendigkeit der kolonialen Schubumkehr.\n\n&nbsp\;\n\nGertraud Klemm\, 1971 in Wien geboren\, wuchs in Baden bei Wien auf\, studierte Biologie und arbeitete bis 2005 als hygienische Gutachterin bei der Stadt Wien. Seither lebt sie mit ihrer Familie als freie Autorin in Pfaffstätten\, Niederösterreich. Sie schreibt Romane\, Theaterstücke\, Gastkommentare und Essays für österreichische Zeitungen\, und hält Reden zur aktuellen Lage der Frauenpolitik.\n\n&nbsp\;\n\n\n\n\n\n\n\nVorverkauf: local-buehne.at/tickets\nVorverkauf EUR 12\,-\n\n\nAK KULTURMONAT NOVEMBER: - 50% auf den Ticketpreis\n(beschränktes Kontingent auf kupfticket.com! Nur mit Vorzeigen einer gültigen AK-OÖ-Leistungscard an der Abendkasse!)\n\nAbendkasse: 15\,- / 13\,-\n\nAbendkasse Preis 1: Vollpreis Abendkassa\; Preis 2: ermäßigt Abendkassa (u. a. für Ö1-\, Arbeiterkammer-\, Kupf-Mitglieder\, Schüler*innen\, Student*innen\, Präsenz- &amp\; Zivildiener\; mit gültigem Ausweis)\; Local-Bühne-Mitglieder: 1 Euro retour auf VVK an Abendkasse\n\n\n\n
ATTACH;FMTTYPE=image/jpeg:https://www.local-buehne.at/wp-content/uploads/2025/08/251107-gklemm-1200.jpg
CATEGORIES:Lesung,Literatur
LOCATION:Salzhof Freistadt\, Salzgasse 15\, Freistadt\, 4240\, Österreich
X-APPLE-STRUCTURED-LOCATION;VALUE=URI;X-ADDRESS=Salzgasse 15\, Freistadt\, 4240\, Österreich;X-APPLE-RADIUS=100;X-TITLE=Salzhof Freistadt:geo:0,0
END:VEVENT
END:VCALENDAR