BEGIN:VCALENDAR
VERSION:2.0
PRODID:-//wp-events-plugin.com//6.4.6.4//EN
BEGIN:VEVENT
UID:501@local-buehne.at
DTSTART;VALUE=DATE:20121123
DTEND;VALUE=DATE:20121124
DTSTAMP:20190924T180628Z
URL:https://www.local-buehne.at/events/fritz-lehner-margolin/
SUMMARY:FRITZ LEHNER - MARGOLIN
DESCRIPTION:FRITZ LEHNER präsentiert seinen Multimedia-Roman MARGOLIN\n\nLesung & Film\n\n\nEine der eigenwilligsten Persönlichkeiten des zeitgenössischen österreichischen Films\, Träger des Prix Italia (2x)\, des Adolf-Grimme-Preises in Gold (2x)\, des Großen Diagonale-Preises\, etc. etc.\, der in Freistadt geborene Regisseur und Autor Fritz Lehner\, kehrt nach über zehn Jahren filmischer Abstinenz in sein Metier zurück. Seiner Doppelbegabung als Filmemacher und Autor trägt er dabei Rechnung: In Text und korrespondierenden Filmclips erzählt Lehner die Geschichte eines Richters\, der durch ein Fehlurteil gezwungen wird\, seine Laufbahn zu beenden\, und nun die Rache des zu Unrecht Verurteilten fürchten muss. Lehner schildert\, wie der Richter in neue Fallstricke gerät und wie die Grenzen zwischen Realität und Vorstellung durchlässig werden\, bis die Leser*innen selbst an der Unterscheidung von Innen- und Außenwelt\, echten und vermeintlichen Tatsachen zu zweifeln beginnen.\n\nFritz Lehner\, geboren 1948 in Freistadt\, Oberösterreich\, ist Absolvent der Hochschule für Film und Fernsehen in Wien. Lehner ist Mitglied der Deutschen Akademie der Darstellenden Künste in Frankfurt und der Akademie der Künste in Berlin. Zu Lehners Filmen zählen unter anderem „Schöne Tage“ (Buch und Regie)\, „Mit meinen heißen Tränen“ (Buch und Regie) und „Jedermanns Fest“ (Buch und Regie). Für seine Werke wurde er vielfach ausgezeichnet. Sein erster Roman\, „&#1071\;“\, erschien 2003 im Seifert Verlag. Es folgten die Metropol-Trilogie („Hotel Metropol: Ankunft“\, „Hotel Metropol: Tage und Nächte“\, „Hotel Metropol: Abreise“) und 2008 der im Freistadt des 17. Jahrhunderts angesiedelte Roman „Der Schneeflockenforscher“.\n\n\n\n Eintritt: € 8\,- / ermäßigt € 6\,50 / Local-Bühne Mitglieder € 6\,-
ATTACH;FMTTYPE=image/jpeg:https://www.local-buehne.at/wp-content/uploads/2019/09/unnamed-file-429.jpeg
CATEGORIES:Lesung
LOCATION:Kino Freistadt\, Salzgasse 25\, Freistadt\, Oberösterreich\, 4240\, Freistadt\, Österreich
GEO:48.512609;14.5035787
X-APPLE-STRUCTURED-LOCATION;VALUE=URI;X-ADDRESS=Salzgasse 25\, Freistadt\, Oberösterreich\, 4240\, Freistadt\, Österreich;X-APPLE-RADIUS=100;X-TITLE=Kino Freistadt:geo:48.512609;14.5035787
END:VEVENT
END:VCALENDAR