BEGIN:VCALENDAR
VERSION:2.0
PRODID:-//wp-events-plugin.com//6.4.6.4//EN
BEGIN:VEVENT
UID:1277@local-buehne.at
DTSTART;VALUE=DATE:20240301
DTEND;VALUE=DATE:20240303
DTSTAMP:20240527T185008Z
URL:https://www.local-buehne.at/events/frischling-2024/
SUMMARY:FRISCHLING 2024
DESCRIPTION:&nbsp\;\n\nFREISTÄDTER FRISCHLING 2024\nKabarett- &amp\; Kleinkunstpreis\n☆ Freitag 1. März ☆\n★ SUSE LICHTENBERGER &amp\; EVELIN PICHLER ★\n☆ Samstag 2. März ☆\n★ JOHANNES POTMESIL &amp\; PETER PANIERER ★\n&nbsp\;\n\nZum 29. Mal lädt die Local-Bühne zum FRISCHLING. Vier Künstler\, die in der Region noch weitgehend unbekannt sind\, werden jedes Jahr eingeladen eine Stunde aus ihrem Programm in Freistadt zu spielen. Anders als bei anderen Kabarettbewerben\, bei denen die Auftrittszeit auf wenige Minuten beschränkt ist\, bietet der Frischling den Künstlern also Zeit ihr Programm zu präsentieren\, Handlungsbögen zu entwickeln und das Publikum für sich zu gewinnen.\n\n2024 sind vier herausragende Acts in Freistadt zu Gast:\n\nSUSE LICHTENBERGER berichtet in ihrem Programm „Willkommen zuhause“ aus der Vorhölle zum Erfolg. Die im Schwarzwald aufgewachsene und in Wien lebende Schauspielerin kannte Erfolg bisher nur aus dem Fernsehen und sozialen Medien – den Erfolg der anderen! Sind im Kabarett die Chancen besser als am Stadttheater – gemeinsam finden wir es heraus!\n\nPETER PANIERER hat 2023 den Grazer Kleinkunstvogel gewonnen mit seinem Programm „Intro“. Ohne Untertitel\, schnörkellos und ohne Blatt vor dem Mund setzt er\, so die Kleinkunstvogeljury\, Brennpunktthemen unserer Gesellschaft neu zusammen und macht sich über Probleme lustig\, ohne die Betroffenen zu verraten.\n\nEVELIN PICHLER kommt mit ihrem Programm „Very Important Pichler“ nach Freistadt und geht der Frage auf den Grund\, was eigentlich wirklich wichtig ist. In einer Zeit voller Hektik und Stress kann es durchaus passieren\, dass man das aus den Augen verliert\, aber die junge Kabarettistin hilft mit trockenem Humor den Alltag hinter sich zu lassen.\n\nJOHANNES POTMESIL lädt in „Die große Obstschau“ zur minimalistischen Groteske\, garniert sowohl mit Kraut als auch mit Rüben. Ein Stillleben der Selbstüberschätzung mit einem Bewahrer des Guten und Schönen. Die wichtigen Fragen werden weder gestellt\, noch beantwortet. Manchmal ist es schlimm\, oft geht’s eh – das muss reichen.\n\nDen ersten Frischling haben 1995 Gunkl und Otto Lechner gewonnen\, unter den bisherigen Preisträgern finden sich prominente Namen wie u.a. Ludwig Müller\, Paul Pizzera und Lisa Eckhart. Dem Jurysieger winkt ein vom Kooperationspartner AK-Kultur-OÖ organisierter und finanzierter Auftritt in Linz.\n\n&nbsp\;\n\n\n\nVorverkauf: kupfticket.com/shops/lb\n\n\n\n\n\n\n&nbsp\;\n\n\n\nAls Preis erhält der Jury-Frischling einen Auftritt in der Arbeiterkammer Linz – organisiert und gesponsert von AK-Kultur OÖ.\n\n&nbsp\;\n\nBisherige Preisträger*innen:\n\nFrischling 2023\nJury &amp\; Publikum: Chrissi Buchmasser\n\nFrischling 2022\nJury: Josef Jöchl\nPublikum: Niko Nagl\n\nFrischling 2021\nKulturlockdown\n\nFrischling 2020\nJury: Marecek Musner\nPublikum: Isabel Meili\n\nFrischling 2019\nJury: Christine Teichmann\nPublikum: Benedikt Mitmannsgruber\n\n\nFrischling 2018\nJury &amp\; Publikum: Elli Bauer\n\nFrischling 2017\nJury &amp\; Publikum: Lisa Eckhart\n\nFrischling 2016\nJury &amp\; Publikum: Martin Frank\n\nFrischling 2015\nJury &amp\; Publikum: Thomas Malirsch\n\nFrischling 2014\nJury &amp\; Publikum: Stefan Waghubinger\n\nFrischling 2013\nJury &amp\; Publikum: Olivier Sanrey\n\nFrischling 2012\nJury &amp\; Publikum: Paul Pizzera\n\nFrischling 2011\nJury: RaDeschnig\nPublikum: ex aequo Jundula Deubel &amp\; Manuel Wolff\n\nFrischling 2010\nJury: Veri\nPublikum: ex aequo Thomas Lötscher &amp\; Susanne Pöchacker\n\nFrischling 2009\nJury: Zieher &amp\; Leeb\nPublikum: Paul Kosteletzky\n\nFrischling 2008\nJury: Nathalie Mackert\nPublikum: Die drei Friseure\n\nFrischling 2007\nJury+ Publikum: Elke Maria Riedmann\n\nFrischling 2006\nJury: Clemens Maria Schreiner\nPublikum: Michael Schuller\n\nFrischling 2005\nJury+ Publikum: Andrea Witschi\n\nFrischling 2004\nJury+ Publikum: Fredi Jirkal\n\nFrischling 2003\nJury+ Publikum: Florian Adamski\n\nFrischling 2002\nJury: Christoph Krall\nPublikum: Robert Mohor\n\nFrischling 2001\nJury: Patrik Lumma\nPublikum: Luise Kinseher\n\nFrischling 2000\nJury: Das A &amp\; O\nPublikum: Christian Springer\n\nFrischling 1999\nJury: Robert &amp\; Sebastian\nPublikum: Hubert Wolf\n\nFrischling 1998\nJury und Publikum: Kabud\n\nFrischling 1997\nJury: Schöller &amp\; Bacher\nPublikum: Steffi Paschke\n\nFrischling 1996\nJury: Mathias Brandstätter\nPublikum: Ludwig W. Müller\n\nFrischling 1995\nGunkl und Otto Lechner\n(1995 gab es nur Publikumsjury)\n\n&nbsp\;\n\n\n\nVorverkauf: kupfticket.com/shops/lb\nFrischlingspass Fr + Sa: EUR 25\,-\nTageskarte Fr oder Sa: EUR 18\,-\n\nAbendkasse Pass: 29\,- / 27\,-\nAbendkasse Tageskarte: 22\,- / 20\,- \nAbendkasse Preis 1: Vollpreis Abendkassa\; Preis 2: ermäßigt Abendkassa (u. a. für Ö1-\, Arbeiterkammer-\, Kupf-Mitglieder\, Schüler*innen\, Student*innen\, Präsenz- &amp\; Zivildiener\; mit gültigem Ausweis)\;\nLocal-Bühne-Mitglieder: 1 Euro retour auf VVK an Abendkasse\n\n\n\n
ATTACH;FMTTYPE=image/jpeg:https://www.local-buehne.at/wp-content/uploads/2023/03/240302-Frischling-FB-VA.jpg
CATEGORIES:Festival,Kabarett
LOCATION:Salzhof Freistadt\, Salzgasse 15\, Freistadt\, Oberösterreich\, 4240\, Österreich
X-APPLE-STRUCTURED-LOCATION;VALUE=URI;X-ADDRESS=Salzgasse 15\, Freistadt\, Oberösterreich\, 4240\, Österreich;X-APPLE-RADIUS=100;X-TITLE=Salzhof Freistadt:geo:0,0
END:VEVENT
END:VCALENDAR