BEGIN:VCALENDAR
VERSION:2.0
PRODID:-//wp-events-plugin.com//6.4.6.4//EN
BEGIN:VEVENT
UID:213@local-buehne.at
DTSTART;VALUE=DATE:20070729
DTEND;VALUE=DATE:20070730
DTSTAMP:20190924T173155Z
URL:https://www.local-buehne.at/events/freistaedter-sunnseitn-2/
SUMMARY:Freistädter Sunnseitn
DESCRIPTION:Tanz ist Ausdruck von Lebenslust und Daseinsbewältigung.\nSchon zum 17. Mal findet das zweitägige Treffen in Guttenbrunn bei Hirschbach\, nahe Freistadt statt - aufspielen werden heuer Gruppen aus Finnland\, Ungarn\, Russland\, Türkei und Österreich. Alle sind willkommen\, auch die\, die mit Tanz nicht so viel am Hut haben. Tanz wird in einfacher und lockerer Form auch absoluten Anfängern vermittelt.\n\nBeschreibungen zu den Gruppen zum Download als pdf
ATTACH;FMTTYPE=image/jpeg:https://www.local-buehne.at/wp-content/uploads/2019/09/unnamed-file-147.jpeg
CATEGORIES:Archiv
END:VEVENT
END:VCALENDAR