BEGIN:VCALENDAR
VERSION:2.0
PRODID:-//wp-events-plugin.com//6.4.6.4//EN
BEGIN:VEVENT
UID:148@local-buehne.at
DTSTART;VALUE=DATE:20060719
DTEND;VALUE=DATE:20060720
DTSTAMP:20190924T173153Z
URL:https://www.local-buehne.at/events/freiluftkino-am-braunberg-2/
SUMMARY:FREILUFTKINO AM BRAUNBERG
DESCRIPTION:Österreichpremiere\n\nELSA & FRED ist die Geschichte zweier Menschen\, die entdecken\, dass es niemals zu spät ist zu lieben ... oder zu träumen.\n\nElsa\, die behauptet 77 Jahre alt zu sein\, ist ein Teenager „in altem Kleid“. Sie ist frech\, temperamentvoll\, von umwerfendem Charme und lügt\, wenn sie den Mund aufmacht. Fred\, eigentlich Alfredo\, ihr neuer Wohnungsnachbar\, ist tatsächlich 78\, gerade Witwer geworden\, hypochondrisch veranlagt und eher etwas scheu.\n\nWie ein Wirbelwind bricht Elsa in sein Leben ein\, entschlossen\, die wertvolle Zeit\, die ihr noch bleibt\, mit der Liebe ihres Lebens zu genießen. Es verlangt etwas Einsatz\, wilde Entschlossenheit und eine ordentliche Portion Mut\, aber die beiden verlieben sich ineinander.\n\nWird sie ihren lang gehegten Traum verwirklichen und wie Anita Ekberg in der berühmten Szene von „La dolce vita“ ihren Geliebten in der Fontana di Trevi umarmen?\n\nErsatztermin bei Schlechtwetter: Mi. 26. Juli
ATTACH;FMTTYPE=image/jpeg:https://www.local-buehne.at/wp-content/uploads/2019/09/unnamed-file-90.jpeg
CATEGORIES:Film
END:VEVENT
END:VCALENDAR